##############################################################################
##############################################################################
###
### Running command:
###
### rm -rf flowQB.buildbin-libdir && mkdir flowQB.buildbin-libdir && /Users/biocbuild/BBS/utils/build-universal.sh flowQB_2.4.0.tar.gz /Library/Frameworks/R.framework/Versions/Current/Resources/bin/R flowQB.buildbin-libdir
###
##############################################################################
##############################################################################
>>>>>>>
>>>>>>> INSTALLATION WITH 'R CMD INSTALL --preclean --no-multiarch --library=flowQB.buildbin-libdir flowQB_2.4.0.tar.gz'
>>>>>>>
* installing *source* package ‘flowQB’ ...
** R
** inst
** preparing package for lazy loading
** help
*** installing help indices
** building package indices
** installing vignettes
** testing if installed package can be loaded
* DONE (flowQB)