##############################################################################
##############################################################################
###
### Running command:
###
### cd flowQB.buildbin-libdir/flowQB && zip -r ../../flowQB_2.4.0.zip . & cd ../..
###
##############################################################################
##############################################################################
adding: DESCRIPTION (264 bytes security) (deflated 40%)
adding: doc/ (304 bytes security) (stored 0%)
adding: doc/flowQBVignettes.pdf (264 bytes security) (deflated 10%)
adding: doc/flowQBVignettes.R (264 bytes security) (deflated 74%)
adding: doc/flowQBVignettes.Rnw (264 bytes security) (deflated 72%)
adding: doc/index.html (264 bytes security) (deflated 59%)
adding: extdata/ (304 bytes security) (stored 0%)
adding: extdata/readme.txt (264 bytes security) (deflated 66%)
adding: help/ (304 bytes security) (stored 0%)
adding: help/aliases.rds (264 bytes security) (stored 0%)
adding: help/AnIndex (264 bytes security) (deflated 81%)
adding: help/flowQB.rdb (264 bytes security) (deflated 1%)
adding: help/flowQB.rdx (264 bytes security) (stored 0%)
adding: help/paths.rds (264 bytes security) (stored 0%)
adding: html/ (304 bytes security) (stored 0%)
adding: html/00Index.html (264 bytes security) (deflated 73%)
adding: html/R.css (264 bytes security) (deflated 75%)
adding: INDEX (264 bytes security) (deflated 68%)
adding: MD5 (264 bytes security) (deflated 46%)
adding: Meta/ (304 bytes security) (stored 0%)
adding: Meta/features.rds (264 bytes security) (stored 0%)
adding: Meta/hsearch.rds (264 bytes security) (stored 0%)
adding: Meta/links.rds (264 bytes security) (stored 0%)
adding: Meta/nsInfo.rds (264 bytes security) (stored 0%)
adding: Meta/package.rds (264 bytes security) (stored 0%)
adding: Meta/Rd.rds (264 bytes security) (stored 0%)
adding: Meta/vignette.rds (264 bytes security) (stored 0%)
adding: NAMESPACE (264 bytes security) (deflated 55%)
adding: NEWS (264 bytes security) (deflated 53%)
adding: R/ (304 bytes security) (stored 0%)
adding: R/flowQB (264 bytes security) (deflated 41%)
adding: R/flowQB.rdb (264 bytes security) (deflated 27%)
adding: R/flowQB.rdx (264 bytes security) (stored 0%)
adding: unitTests/ (304 bytes security) (stored 0%)
adding: unitTests/test_calc_mean_sd_197.R (264 bytes security) (deflated 61%)
adding: unitTests/test_calc_mean_sd_background.R (264 bytes security) (deflated 60%)
adding: unitTests/test_calc_mean_sd_capture.R (264 bytes security) (deflated 74%)
adding: unitTests/test_calc_mean_sd_duke.R (264 bytes security) (deflated 61%)
adding: unitTests/test_find_peak.R (264 bytes security) (deflated 50%)
adding: unitTests/test_fitted_ellipse_gate.R (264 bytes security) (deflated 52%)
adding: unitTests/test_fit_beads.R (264 bytes security) (deflated 80%)
adding: unitTests/test_fit_led.R (264 bytes security) (deflated 68%)
adding: unitTests/test_helpers.R (264 bytes security) (deflated 36%)
adding: unitTests/test_peak_gate.R (264 bytes security) (deflated 55%)
adding: unitTests/test_pick_parameters.R (264 bytes security) (deflated 78%)
adding: unitTests/test_split_in_two.R (264 bytes security) (deflated 55%)