Back to the "Multiple platform build/check report" | A B [C] D E F G H I J K L M N O P Q R S T U V W X Y Z |
This page was generated on 2017-04-23 14:35:37 -0400 (Sun, 23 Apr 2017).
Package 235/1377 | Hostname | OS / Arch | INSTALL | BUILD | CHECK | BUILD BIN | |||||
clusterProfiler 3.3.6 Guangchuang Yu
| malbec2 | Linux (Ubuntu 16.04.1 LTS) / x86_64 | OK | OK | OK | ![]() | |||||
tokay2 | Windows Server 2012 R2 Standard / x64 | OK | OK | OK | OK | ![]() | |||||
toluca2 | Mac OS X Mavericks (10.9.5) / x86_64 | OK | [ OK ] | OK | OK | ||||||
veracruz2 | OS X 10.11.6 El Capitan / x86_64 | OK | OK | OK | OK | ![]() |
Package: clusterProfiler |
Version: 3.3.6 |
Command: /Library/Frameworks/R.framework/Versions/Current/Resources/bin/R CMD build --keep-empty-dirs --no-resave-data clusterProfiler |
StartedAt: 2017-04-22 19:33:06 -0400 (Sat, 22 Apr 2017) |
EndedAt: 2017-04-22 19:36:09 -0400 (Sat, 22 Apr 2017) |
EllapsedTime: 182.8 seconds |
RetCode: 0 |
Status: OK |
PackageFile: clusterProfiler_3.3.6.tar.gz |
PackageFileSize: 2.182 MiB |
############################################################################## ############################################################################## ### ### Running command: ### ### /Library/Frameworks/R.framework/Versions/Current/Resources/bin/R CMD build --keep-empty-dirs --no-resave-data clusterProfiler ### ############################################################################## ############################################################################## * checking for file ‘clusterProfiler/DESCRIPTION’ ... OK * preparing ‘clusterProfiler’: * checking DESCRIPTION meta-information ... OK * installing the package to build vignettes * creating vignettes ... OK * checking for LF line-endings in source and make files * checking for empty or unneeded directories * looking to see if a ‘data/datalist’ file should be added * building ‘clusterProfiler_3.3.6.tar.gz’