##############################################################################
##############################################################################
###
### Running command:
###
### cd clusterProfiler.buildbin-libdir/clusterProfiler && zip -r ../../clusterProfiler_3.4.4.zip . & cd ../..
###
##############################################################################
##############################################################################
adding: CITATION (264 bytes security) (deflated 58%)
adding: data/ (304 bytes security) (stored 0%)
adding: data/gcSample.rda (264 bytes security) (stored 0%)
adding: data/kegg_species.rda (264 bytes security) (deflated 0%)
adding: DESCRIPTION (264 bytes security) (deflated 49%)
adding: doc/ (304 bytes security) (stored 0%)
adding: doc/clusterProfiler.html (264 bytes security) (deflated 30%)
adding: doc/clusterProfiler.R (264 bytes security) (deflated 74%)
adding: doc/clusterProfiler.Rmd (264 bytes security) (deflated 67%)
adding: doc/index.html (264 bytes security) (deflated 60%)
adding: extdata/ (304 bytes security) (stored 0%)
adding: extdata/c5.cc.v5.0.entrez.gmt (264 bytes security) (deflated 65%)
adding: help/ (304 bytes security) (stored 0%)
adding: help/aliases.rds (264 bytes security) (stored 0%)
adding: help/AnIndex (264 bytes security) (deflated 69%)
adding: help/clusterProfiler.rdb (264 bytes security) (deflated 3%)
adding: help/clusterProfiler.rdx (264 bytes security) (stored 0%)
adding: help/paths.rds (264 bytes security) (stored 0%)
adding: html/ (304 bytes security) (stored 0%)
adding: html/00Index.html (264 bytes security) (deflated 80%)
adding: html/R.css (264 bytes security) (deflated 75%)
adding: INDEX (264 bytes security) (deflated 74%)
adding: MD5 (264 bytes security) (deflated 43%)
adding: Meta/ (304 bytes security) (stored 0%)
adding: Meta/data.rds (264 bytes security) (stored 0%)
adding: Meta/features.rds (264 bytes security) (stored 0%)
adding: Meta/hsearch.rds (264 bytes security) (stored 0%)
adding: Meta/links.rds (264 bytes security) (stored 0%)
adding: Meta/nsInfo.rds (264 bytes security) (stored 0%)
adding: Meta/package.rds (264 bytes security) (stored 0%)
adding: Meta/Rd.rds (264 bytes security) (stored 0%)
adding: Meta/vignette.rds (264 bytes security) (stored 0%)
adding: NAMESPACE (264 bytes security) (deflated 73%)
adding: NEWS (264 bytes security) (deflated 71%)
adding: R/ (304 bytes security) (stored 0%)
adding: R/clusterProfiler (264 bytes security) (deflated 41%)
adding: R/clusterProfiler.rdb (264 bytes security) (deflated 7%)
adding: R/clusterProfiler.rdx (264 bytes security) (stored 0%)