##############################################################################
##############################################################################
###
### Running command:
###
### rm -rf clusterProfiler.buildbin-libdir && mkdir clusterProfiler.buildbin-libdir && /Users/biocbuild/BBS/utils/build-universal.sh clusterProfiler_3.3.6.tar.gz /Library/Frameworks/R.framework/Versions/Current/Resources/bin/R clusterProfiler.buildbin-libdir
###
##############################################################################
##############################################################################
>>>>>>>
>>>>>>> INSTALLATION WITH 'R CMD INSTALL --preclean --no-multiarch --library=clusterProfiler.buildbin-libdir clusterProfiler_3.3.6.tar.gz'
>>>>>>>
* installing *source* package ‘clusterProfiler’ ...
** R
** data
** inst
** byte-compile and prepare package for lazy loading
** help
*** installing help indices
** building package indices
** installing vignettes
** testing if installed package can be loaded
* DONE (clusterProfiler)