Back to the "Multiple platform build/check report" | [A] B C D E F G H I J K L M N O P Q R S T U V W X Y Z |
This page was generated on 2017-03-04 16:34:47 -0500 (Sat, 04 Mar 2017).
Package 58/1339 | Hostname | OS / Arch | INSTALL | BUILD | CHECK | BUILD BIN | |||||
aroma.light 3.5.0 Henrik Bengtsson
| malbec2 | Linux (Ubuntu 16.04.1 LTS) / x86_64 | OK | OK | ERROR | ||||||
tokay2 | Windows Server 2012 R2 Standard / x64 | OK | OK | ERROR | OK | ||||||
toluca2 | Mac OS X Mavericks (10.9.5) / x86_64 | OK | OK | ERROR | OK | ||||||
oaxaca | Mac OS X Mavericks (10.9.5) / x86_64 | [ OK ] | OK | ERROR | OK |
Package: aroma.light |
Version: 3.5.0 |
Command: /Library/Frameworks/R.framework/Versions/Current/Resources/bin/R CMD INSTALL aroma.light |
StartedAt: 2017-03-03 15:11:05 -0800 (Fri, 03 Mar 2017) |
EndedAt: 2017-03-03 15:11:25 -0800 (Fri, 03 Mar 2017) |
EllapsedTime: 20.6 seconds |
RetCode: 0 |
Status: OK |
############################################################################## ############################################################################## ### ### Running command: ### ### /Library/Frameworks/R.framework/Versions/Current/Resources/bin/R CMD INSTALL aroma.light ### ############################################################################## ############################################################################## * installing to library ‘/Library/Frameworks/R.framework/Versions/3.4/Resources/library’ * installing *source* package ‘aroma.light’ ... ** R ** inst ** preparing package for lazy loading ** help *** installing help indices ** building package indices ** testing if installed package can be loaded * DONE (aroma.light)