Back to the "Multiple platform build/check report" | [A] B C D E F G H I J K L M N O P Q R S T U V W X Y Z |
This page was generated on 2017-08-16 13:19:16 -0400 (Wed, 16 Aug 2017).
Package 59/1382 | Hostname | OS / Arch | INSTALL | BUILD | CHECK | BUILD BIN | |||||
aroma.light 3.6.0 Henrik Bengtsson
| malbec2 | Linux (Ubuntu 16.04.1 LTS) / x86_64 | OK | OK | OK | ![]() | |||||
tokay2 | Windows Server 2012 R2 Standard / x64 | OK | [ OK ] | OK | OK | ![]() | |||||
veracruz2 | OS X 10.11.6 El Capitan / x86_64 | OK | OK | OK | OK | ![]() |
Package: aroma.light |
Version: 3.6.0 |
Command: chmod a+r aroma.light -R && C:\Users\biocbuild\bbs-3.5-bioc\R\bin\R.exe CMD build --keep-empty-dirs --no-resave-data aroma.light |
StartedAt: 2017-08-15 19:01:13 -0400 (Tue, 15 Aug 2017) |
EndedAt: 2017-08-15 19:01:48 -0400 (Tue, 15 Aug 2017) |
EllapsedTime: 35.1 seconds |
RetCode: 0 |
Status: OK |
PackageFile: aroma.light_3.6.0.tar.gz |
PackageFileSize: 413 KiB |
############################################################################## ############################################################################## ### ### Running command: ### ### chmod a+r aroma.light -R && C:\Users\biocbuild\bbs-3.5-bioc\R\bin\R.exe CMD build --keep-empty-dirs --no-resave-data aroma.light ### ############################################################################## ############################################################################## * checking for file 'aroma.light/DESCRIPTION' ... OK * preparing 'aroma.light': * checking DESCRIPTION meta-information ... OK * checking for LF line-endings in source and make files * checking for empty or unneeded directories * building 'aroma.light_3.6.0.tar.gz'