Back to the "Multiple platform build/check report" | [A] B C D E F G H I J K L M N O P Q R S T U V W X Y Z |
This page was generated on 2017-08-16 13:12:41 -0400 (Wed, 16 Aug 2017).
Package 59/1382 | Hostname | OS / Arch | INSTALL | BUILD | CHECK | BUILD BIN | |||||
aroma.light 3.6.0 Henrik Bengtsson
| malbec2 | Linux (Ubuntu 16.04.1 LTS) / x86_64 | [ OK ] | OK | OK | ![]() | |||||
tokay2 | Windows Server 2012 R2 Standard / x64 | OK | OK | OK | OK | ![]() | |||||
veracruz2 | OS X 10.11.6 El Capitan / x86_64 | OK | OK | OK | OK | ![]() |
Package: aroma.light |
Version: 3.6.0 |
Command: /home/biocbuild/bbs-3.5-bioc/R/bin/R CMD INSTALL aroma.light |
StartedAt: 2017-08-15 17:59:21 -0400 (Tue, 15 Aug 2017) |
EndedAt: 2017-08-15 17:59:26 -0400 (Tue, 15 Aug 2017) |
EllapsedTime: 4.6 seconds |
RetCode: 0 |
Status: OK |
############################################################################## ############################################################################## ### ### Running command: ### ### /home/biocbuild/bbs-3.5-bioc/R/bin/R CMD INSTALL aroma.light ### ############################################################################## ############################################################################## * installing to library ‘/home/biocbuild/bbs-3.5-bioc/R/library’ * installing *source* package ‘aroma.light’ ... ** R ** inst ** preparing package for lazy loading ** help *** installing help indices ** building package indices ** testing if installed package can be loaded * DONE (aroma.light)