Back to the "Multiple platform build/check report" | [A] B C D E F G H I J K L M N O P Q R S T U V W X Y Z |
This page was generated on 2017-04-23 14:33:51 -0400 (Sun, 23 Apr 2017).
Package 59/1377 | Hostname | OS / Arch | INSTALL | BUILD | CHECK | BUILD BIN | |||||
aroma.light 3.5.1 Henrik Bengtsson
| malbec2 | Linux (Ubuntu 16.04.1 LTS) / x86_64 | OK | OK | OK | ![]() | |||||
tokay2 | Windows Server 2012 R2 Standard / x64 | OK | OK | OK | OK | ![]() | |||||
toluca2 | Mac OS X Mavericks (10.9.5) / x86_64 | OK | OK | OK | [ OK ] | ||||||
veracruz2 | OS X 10.11.6 El Capitan / x86_64 | OK | OK | OK | OK | ![]() |
Package: aroma.light |
Version: 3.5.1 |
Command: rm -rf aroma.light.buildbin-libdir && mkdir aroma.light.buildbin-libdir && /Users/biocbuild/BBS/utils/build-universal.sh aroma.light_3.5.1.tar.gz /Library/Frameworks/R.framework/Versions/Current/Resources/bin/R aroma.light.buildbin-libdir |
StartedAt: 2017-04-23 11:38:40 -0400 (Sun, 23 Apr 2017) |
EndedAt: 2017-04-23 11:38:51 -0400 (Sun, 23 Apr 2017) |
EllapsedTime: 11.1 seconds |
RetCode: 0 |
Status: OK |
PackageFile: aroma.light_3.5.1.tgz |
PackageFileSize: 496.8 KiB |
############################################################################## ############################################################################## ### ### Running command: ### ### rm -rf aroma.light.buildbin-libdir && mkdir aroma.light.buildbin-libdir && /Users/biocbuild/BBS/utils/build-universal.sh aroma.light_3.5.1.tar.gz /Library/Frameworks/R.framework/Versions/Current/Resources/bin/R aroma.light.buildbin-libdir ### ############################################################################## ############################################################################## >>>>>>> >>>>>>> INSTALLATION WITH 'R CMD INSTALL --preclean --no-multiarch --library=aroma.light.buildbin-libdir aroma.light_3.5.1.tar.gz' >>>>>>> * installing *source* package ‘aroma.light’ ... ** R ** inst ** preparing package for lazy loading ** help *** installing help indices ** building package indices ** testing if installed package can be loaded * DONE (aroma.light)