##############################################################################
##############################################################################
###
### Running command:
###
### /home/biocbuild/bbs-3.1-bioc/R/bin/R CMD INSTALL Streamer
###
##############################################################################
##############################################################################
* installing to library ‘/home/biocbuild/bbs-3.1-bioc/R/library’
* installing *source* package ‘Streamer’ ...
** libs
gcc -std=gnu99 -I/home/biocbuild/bbs-3.1-bioc/R/include -DNDEBUG -I/usr/local/include -fpic -g -O2 -Wall -c R_init_Streamer.c -o R_init_Streamer.o
gcc -std=gnu99 -I/home/biocbuild/bbs-3.1-bioc/R/include -DNDEBUG -I/usr/local/include -fpic -g -O2 -Wall -c raw_input.c -o raw_input.o
gcc -std=gnu99 -shared -L/home/biocbuild/bbs-3.1-bioc/R/lib -L/usr/local/lib -o Streamer.so R_init_Streamer.o raw_input.o -L/home/biocbuild/bbs-3.1-bioc/R/lib -lR
installing to /home/biocbuild/bbs-3.1-bioc/R/library/Streamer/libs
** R
** inst
** preparing package for lazy loading
** help
*** installing help indices
** building package indices
** installing vignettes
** testing if installed package can be loaded
* DONE (Streamer)