##############################################################################
##############################################################################
###
### Running command:
###
### C:\cygwin\bin\curl.exe -O http://zin2/BBS/3.1/bioc/src/contrib/Streamer_1.14.0.tar.gz && E:\biocbld\bbs-3.1-bioc\R\bin\R.exe CMD INSTALL --merge-multiarch Streamer_1.14.0.tar.gz && rm Streamer_1.14.0.tar.gz
###
##############################################################################
##############################################################################
install for i386
* installing to library 'E:/biocbld/bbs-3.1-bioc/R/library'
* installing *source* package 'Streamer' ...
** libs
gcc -m32 -I"E:/biocbld/BBS-3˜1.1-B/R/include" -DNDEBUG -I"d:/RCompile/r-compiling/local/local320/include" -O3 -Wall -std=gnu99 -mtune=core2 -c R_init_Streamer.c -o R_init_Streamer.o
gcc -m32 -I"E:/biocbld/BBS-3˜1.1-B/R/include" -DNDEBUG -I"d:/RCompile/r-compiling/local/local320/include" -O3 -Wall -std=gnu99 -mtune=core2 -c raw_input.c -o raw_input.o
gcc -m32 -shared -s -static-libgcc -o Streamer.dll tmp.def R_init_Streamer.o raw_input.o -Ld:/RCompile/r-compiling/local/local320/lib/i386 -Ld:/RCompile/r-compiling/local/local320/lib -LE:/biocbld/BBS-3˜1.1-B/R/bin/i386 -lR
installing to E:/biocbld/bbs-3.1-bioc/R/library/Streamer/libs/i386
** R
** inst
** preparing package for lazy loading
** help
*** installing help indices
** building package indices
** installing vignettes
** testing if installed package can be loaded
install for x64
* installing to library 'E:/biocbld/bbs-3.1-bioc/R/library'
* installing *source* package 'Streamer' ...
** libs
gcc -m64 -I"E:/biocbld/BBS-3˜1.1-B/R/include" -DNDEBUG -I"d:/RCompile/r-compiling/local/local320/include" -O2 -Wall -std=gnu99 -mtune=core2 -c R_init_Streamer.c -o R_init_Streamer.o
gcc -m64 -I"E:/biocbld/BBS-3˜1.1-B/R/include" -DNDEBUG -I"d:/RCompile/r-compiling/local/local320/include" -O2 -Wall -std=gnu99 -mtune=core2 -c raw_input.c -o raw_input.o
gcc -m64 -shared -s -static-libgcc -o Streamer.dll tmp.def R_init_Streamer.o raw_input.o -Ld:/RCompile/r-compiling/local/local320/lib/x64 -Ld:/RCompile/r-compiling/local/local320/lib -LE:/biocbld/BBS-3˜1.1-B/R/bin/x64 -lR
installing to E:/biocbld/bbs-3.1-bioc/R/library/Streamer/libs/x64
** testing if installed package can be loaded
* DONE (Streamer)