Back to the "Multiple platform build/check report" | A B C D E F G H I J K L M N O P Q R [S] T U V W X Y Z |
This page was generated on 2015-10-09 09:39:53 -0700 (Fri, 09 Oct 2015).
Package 956/1024 | Hostname | OS / Arch | INSTALL | BUILD | CHECK | BUILD BIN | |||||
Streamer 1.14.0 Martin Morgan
| zin2 | Linux (Ubuntu 14.04.2 LTS) / x86_64 | OK | OK | WARNINGS | ![]() | |||||
moscato2 | Windows Server 2008 R2 Enterprise SP1 (64-bit) / x64 | OK | OK | WARNINGS | OK | ![]() | |||||
petty | Mac OS X Snow Leopard (10.6.8) / x86_64 | OK | OK | WARNINGS | OK | ![]() | |||||
morelia | Mac OS X Mavericks (10.9.5) / x86_64 | OK | [ OK ] | WARNINGS | OK | ![]() |
Package: Streamer |
Version: 1.14.0 |
Command: /Library/Frameworks/R.framework/Versions/Current/Resources/bin/R CMD build --keep-empty-dirs --no-resave-data Streamer |
StartedAt: 2015-10-08 20:11:12 -0700 (Thu, 08 Oct 2015) |
EndedAt: 2015-10-08 20:11:24 -0700 (Thu, 08 Oct 2015) |
EllapsedTime: 12.2 seconds |
RetCode: 0 |
Status: OK |
PackageFile: Streamer_1.14.0.tar.gz |
PackageFileSize: 182.2 KiB |
############################################################################## ############################################################################## ### ### Running command: ### ### /Library/Frameworks/R.framework/Versions/Current/Resources/bin/R CMD build --keep-empty-dirs --no-resave-data Streamer ### ############################################################################## ############################################################################## * checking for file ‘Streamer/DESCRIPTION’ ... OK * preparing ‘Streamer’: * checking DESCRIPTION meta-information ... OK * cleaning src * installing the package to build vignettes * creating vignettes ... OK * cleaning src * checking for LF line-endings in source and make files * checking for empty or unneeded directories * building ‘Streamer_1.14.0.tar.gz’