Back to the "Multiple platform build/check report" |
Package 27/144 | Hostname | OS / Arch | BUILD | CHECK | BUILD BIN | ||||
ChIPXpressData 0.99.1 George Wu
| george2 | Linux (Ubuntu 12.04.1 LTS) / x86_64 | OK | OK | |||||
moscato2 | Windows Server 2008 R2 Enterprise SP1 (64-bit) / x64 | OK | ERROR | [ ERROR ] | |||||
petty | Mac OS X Leopard (10.5.8) / i386 | OK | OK | OK |
Package: ChIPXpressData |
Version: 0.99.1 |
Command: rm -rf ChIPXpressData.buildbin-libdir && mkdir ChIPXpressData.buildbin-libdir && E:\biocbld\bbs-2.12-bioc\R\bin\R.exe --arch x64 CMD INSTALL --build --no-multiarch --library=ChIPXpressData.buildbin-libdir ChIPXpressData_0.99.1.tar.gz |
StartedAt: 2013-03-19 14:50:20 -0700 (Tue, 19 Mar 2013) |
EndedAt: 2013-03-19 15:04:21 -0700 (Tue, 19 Mar 2013) |
EllapsedTime: 841.2 seconds |
RetCode: 1 |
Status: ERROR |
PackageFile: None |
PackageFileSize: NA |
ERROR: dependency 'bigmemory' is not available for package 'ChIPXpressData' * removing 'E:/biocbld/bbs-2.12-data-experiment/meat/ChIPXpressData.buildbin-libdir/ChIPXpressData'