Back to the "Multiple platform build/check report" |
This page was generated on 2013-10-08 16:07:36 -0700 (Tue, 08 Oct 2013).
Package 29/156 | Hostname | OS / Arch | BUILD | CHECK | BUILD BIN | ||||
ChIPXpressData 1.0.0 George Wu
| george2 | Linux (Ubuntu 12.04.1 LTS) / x86_64 | OK | WARNINGS | |||||
moscato2 | Windows Server 2008 R2 Enterprise SP1 (64-bit) / x64 | N O T S U P P O R T E D | |||||||
petty | Mac OS X Snow Leopard (10.6.8) / x86_64 | OK | WARNINGS | [ OK ] |
Package: ChIPXpressData |
Version: 1.0.0 |
Command: rm -rf ChIPXpressData.buildbin-libdir && mkdir ChIPXpressData.buildbin-libdir && /Users/biocbuild/BBS/utils/build-universal.sh ChIPXpressData_1.0.0.tar.gz /Library/Frameworks/R.framework/Versions/Current/Resources/bin/R ChIPXpressData.buildbin-libdir |
StartedAt: 2013-10-08 14:46:24 -0700 (Tue, 08 Oct 2013) |
EndedAt: 2013-10-08 15:11:32 -0700 (Tue, 08 Oct 2013) |
EllapsedTime: 1507.5 seconds |
RetCode: 0 |
Status: OK |
PackageFile: ChIPXpressData_1.0.0.tgz |
PackageFileSize: 3.174 GiB |
>>>>>>> >>>>>>> INSTALLATION WITH 'R CMD INSTALL --preclean --no-multiarch --library=ChIPXpressData.buildbin-libdir ChIPXpressData_1.0.0.tar.gz' >>>>>>> * installing *source* package 'ChIPXpressData' ... ** data ** inst ** help *** installing help indices ** building package indices ** testing if installed package can be loaded * DONE (ChIPXpressData)