Back to the "Multiple platform build/check report" |
This page was generated on 2013-10-08 16:07:36 -0700 (Tue, 08 Oct 2013).
Package 29/156 | Hostname | OS / Arch | BUILD | CHECK | BUILD BIN | ||||
ChIPXpressData 1.0.0 George Wu
| george2 | Linux (Ubuntu 12.04.1 LTS) / x86_64 | OK | WARNINGS | |||||
moscato2 | Windows Server 2008 R2 Enterprise SP1 (64-bit) / x64 | N O T S U P P O R T E D | |||||||
petty | Mac OS X Snow Leopard (10.6.8) / x86_64 | [ OK ] | WARNINGS | OK |
Package: ChIPXpressData |
Version: 1.0.0 |
Command: /Library/Frameworks/R.framework/Versions/Current/Resources/bin/R CMD build --keep-empty-dirs --no-resave-data ChIPXpressData |
StartedAt: 2013-10-08 12:39:56 -0700 (Tue, 08 Oct 2013) |
EndedAt: 2013-10-08 12:52:45 -0700 (Tue, 08 Oct 2013) |
EllapsedTime: 769.9 seconds |
RetCode: 0 |
Status: OK |
PackageFile: ChIPXpressData_1.0.0.tar.gz |
PackageFileSize: 3.171 GiB |
* checking for file 'ChIPXpressData/DESCRIPTION' ... OK * preparing 'ChIPXpressData': * checking DESCRIPTION meta-information ... OK * checking for LF line-endings in source and make files * checking for empty or unneeded directories * looking to see if a 'data/datalist' file should be added * building 'ChIPXpressData_1.0.0.tar.gz'