Gviz 1.3.14 Florian Hahne
Snapshot Date: 2013-03-23 17:02:20 -0700 (Sat, 23 Mar 2013) | URL: https://hedgehog.fhcrc.org/bioconductor/trunk/madman/Rpacks/Gviz | Last Changed Rev: 74217 / Revision: 74756 | Last Changed Date: 2013-03-12 03:28:41 -0700 (Tue, 12 Mar 2013) |
| george2 | Linux (Ubuntu 12.04.1 LTS) / x86_64 | OK | OK | |
moscato2 | Windows Server 2008 R2 Enterprise SP1 (64-bit) / x64 | OK | OK | OK |
petty | Mac OS X Leopard (10.5.8) / i386 | OK | OK | OK |
pelham | Mac OS X Snow Leopard (10.6.8) / x86_64 | OK | OK | [ OK ] |
* installing *source* package 'Gviz' ...
** R
** data
** inst
** preparing package for lazy loading
Creating a generic function for 'subset' from package 'base' in package 'Gviz'
Creating a generic function for 'head' from package 'utils' in package 'Gviz'
** help
*** installing help indices
** building package indices
** installing vignettes
'Gviz.Rnw' using 'UTF-8'
** testing if installed package can be loaded
packaged installation of 'Gviz' as 'Gviz_1.3.14.tgz'
* DONE (Gviz)