Back to the "Multiple platform build/check report" | A B C D E F G H I J K L [M] N O P Q R S T U V W X Y Z |
This page was generated on 2017-03-04 16:40:08 -0500 (Sat, 04 Mar 2017).
Package 807/1339 | Hostname | OS / Arch | INSTALL | BUILD | CHECK | BUILD BIN | |||||
MLP 1.23.0 Tobias Verbeke
| malbec2 | Linux (Ubuntu 16.04.1 LTS) / x86_64 | OK | OK | OK | ![]() | |||||
tokay2 | Windows Server 2012 R2 Standard / x64 | OK | OK | OK | OK | ![]() | |||||
toluca2 | Mac OS X Mavericks (10.9.5) / x86_64 | OK | OK | OK | OK | ![]() | |||||
oaxaca | Mac OS X Mavericks (10.9.5) / x86_64 | OK | [ OK ] | OK | OK |
Package: MLP |
Version: 1.23.0 |
Command: /Library/Frameworks/R.framework/Versions/Current/Resources/bin/R CMD build --keep-empty-dirs --no-resave-data MLP |
StartedAt: 2017-03-03 17:02:37 -0800 (Fri, 03 Mar 2017) |
EndedAt: 2017-03-03 17:05:12 -0800 (Fri, 03 Mar 2017) |
EllapsedTime: 154.9 seconds |
RetCode: 0 |
Status: OK |
PackageFile: MLP_1.23.0.tar.gz |
PackageFileSize: 4.208 MiB |
############################################################################## ############################################################################## ### ### Running command: ### ### /Library/Frameworks/R.framework/Versions/Current/Resources/bin/R CMD build --keep-empty-dirs --no-resave-data MLP ### ############################################################################## ############################################################################## * checking for file ‘MLP/DESCRIPTION’ ... OK * preparing ‘MLP’: * checking DESCRIPTION meta-information ... OK * installing the package to build vignettes * creating vignettes ... OK * checking for LF line-endings in source and make files * checking for empty or unneeded directories * building ‘MLP_1.23.0.tar.gz’