##############################################################################
##############################################################################
###
### Running command:
###
### cd MLP.buildbin-libdir/MLP && zip -r ../../MLP_1.24.0.zip . & cd ../..
###
##############################################################################
##############################################################################
adding: DESCRIPTION (264 bytes security) (deflated 40%)
adding: doc/ (304 bytes security) (stored 0%)
adding: doc/index.html (264 bytes security) (deflated 57%)
adding: doc/UsingMLP.pdf (264 bytes security) (deflated 13%)
adding: doc/UsingMLP.R (264 bytes security) (deflated 71%)
adding: doc/UsingMLP.Rnw (264 bytes security) (deflated 66%)
adding: exampleFiles/ (304 bytes security) (stored 0%)
adding: exampleFiles/exampleGeneSet.rda (264 bytes security) (deflated 1%)
adding: exampleFiles/exampleMLPResult.rda (264 bytes security) (deflated 1%)
adding: exampleFiles/examplePValues.rda (264 bytes security) (deflated 0%)
adding: exampleFiles/expressionSetGcrma.rda (264 bytes security) (deflated 0%)
adding: help/ (304 bytes security) (stored 0%)
adding: help/aliases.rds (264 bytes security) (stored 0%)
adding: help/AnIndex (264 bytes security) (deflated 49%)
adding: help/MLP.rdb (264 bytes security) (deflated 0%)
adding: help/MLP.rdx (264 bytes security) (stored 0%)
adding: help/paths.rds (264 bytes security) (stored 0%)
adding: html/ (304 bytes security) (stored 0%)
adding: html/00Index.html (264 bytes security) (deflated 59%)
adding: html/R.css (264 bytes security) (deflated 75%)
adding: INDEX (264 bytes security) (deflated 61%)
adding: MD5 (264 bytes security) (deflated 42%)
adding: Meta/ (304 bytes security) (stored 0%)
adding: Meta/features.rds (264 bytes security) (stored 0%)
adding: Meta/hsearch.rds (264 bytes security) (stored 0%)
adding: Meta/links.rds (264 bytes security) (stored 0%)
adding: Meta/nsInfo.rds (264 bytes security) (stored 0%)
adding: Meta/package.rds (264 bytes security) (stored 0%)
adding: Meta/Rd.rds (264 bytes security) (stored 0%)
adding: Meta/vignette.rds (264 bytes security) (stored 0%)
adding: NAMESPACE (264 bytes security) (deflated 34%)
adding: NEWS (264 bytes security) (deflated 59%)
adding: R/ (304 bytes security) (stored 0%)
adding: R/MLP (264 bytes security) (deflated 41%)
adding: R/MLP.rdb (264 bytes security) (deflated 2%)
adding: R/MLP.rdx (264 bytes security) (stored 0%)
adding: scripts/ (304 bytes security) (stored 0%)
adding: scripts/generateExampleFiles.R (264 bytes security) (deflated 46%)