Back to the "Multiple platform build/check report" | A B C D E F G H I J K L [M] N O P Q R S T U V W X Y Z |
This page was generated on 2017-04-23 14:35:27 -0400 (Sun, 23 Apr 2017).
Package 834/1377 | Hostname | OS / Arch | INSTALL | BUILD | CHECK | BUILD BIN | |||||
MLP 1.23.0 Tobias Verbeke
| malbec2 | Linux (Ubuntu 16.04.1 LTS) / x86_64 | OK | OK | OK | ![]() | |||||
tokay2 | Windows Server 2012 R2 Standard / x64 | OK | OK | OK | OK | ![]() | |||||
toluca2 | Mac OS X Mavericks (10.9.5) / x86_64 | OK | OK | OK | [ OK ] | ||||||
veracruz2 | OS X 10.11.6 El Capitan / x86_64 | OK | OK | OK | OK | ![]() |
Package: MLP |
Version: 1.23.0 |
Command: rm -rf MLP.buildbin-libdir && mkdir MLP.buildbin-libdir && /Users/biocbuild/BBS/utils/build-universal.sh MLP_1.23.0.tar.gz /Library/Frameworks/R.framework/Versions/Current/Resources/bin/R MLP.buildbin-libdir |
StartedAt: 2017-04-23 12:22:49 -0400 (Sun, 23 Apr 2017) |
EndedAt: 2017-04-23 12:23:03 -0400 (Sun, 23 Apr 2017) |
EllapsedTime: 14.5 seconds |
RetCode: 0 |
Status: OK |
PackageFile: MLP_1.23.0.tgz |
PackageFileSize: 4.226 MiB |
############################################################################## ############################################################################## ### ### Running command: ### ### rm -rf MLP.buildbin-libdir && mkdir MLP.buildbin-libdir && /Users/biocbuild/BBS/utils/build-universal.sh MLP_1.23.0.tar.gz /Library/Frameworks/R.framework/Versions/Current/Resources/bin/R MLP.buildbin-libdir ### ############################################################################## ############################################################################## >>>>>>> >>>>>>> INSTALLATION WITH 'R CMD INSTALL --preclean --no-multiarch --library=MLP.buildbin-libdir MLP_1.23.0.tar.gz' >>>>>>> * installing *source* package ‘MLP’ ... ** R ** inst ** preparing package for lazy loading ** help *** installing help indices ** building package indices ** installing vignettes ** testing if installed package can be loaded * DONE (MLP)