##############################################################################
##############################################################################
###
### Running command:
###
### cd waveTilingData.buildbin-libdir/waveTilingData && zip -r ../../waveTilingData_1.7.0.zip . & cd ../..
###
##############################################################################
##############################################################################
adding: data/ (256 bytes security) (stored 0%)
adding: data/datalist (188 bytes security) (deflated 29%)
adding: data/leafdev.rda (188 bytes security) (deflated 0%)
adding: data/leafdevBQ.rda (188 bytes security) (deflated 0%)
adding: data/leafdevFit.rda (188 bytes security) (deflated 0%)
adding: data/leafdevInfCompare.rda (188 bytes security) (deflated 0%)
adding: data/leafdevMapAndFilterTAIR9.rda (188 bytes security) (deflated 0%)
adding: data/waveTilingData-Ex.timings (188 bytes security) (deflated 48%)
adding: DESCRIPTION (188 bytes security) (deflated 39%)
adding: help/ (256 bytes security) (stored 0%)
adding: help/aliases.rds (188 bytes security) (stored 0%)
adding: help/AnIndex (188 bytes security) (deflated 56%)
adding: help/paths.rds (188 bytes security) (stored 0%)
adding: help/waveTilingData.rdb (188 bytes security) (deflated 1%)
adding: help/waveTilingData.rdx (188 bytes security) (stored 0%)
adding: html/ (256 bytes security) (stored 0%)
adding: html/00Index.html (188 bytes security) (deflated 64%)
adding: html/R.css (188 bytes security) (deflated 75%)
adding: INDEX (188 bytes security) (deflated 60%)
adding: MD5 (188 bytes security) (deflated 42%)
adding: Meta/ (256 bytes security) (stored 0%)
adding: Meta/data.rds (188 bytes security) (stored 0%)
adding: Meta/hsearch.rds (188 bytes security) (stored 0%)
adding: Meta/links.rds (188 bytes security) (stored 0%)
adding: Meta/nsInfo.rds (188 bytes security) (stored 0%)
adding: Meta/package.rds (188 bytes security) (stored 0%)
adding: Meta/Rd.rds (188 bytes security) (stored 0%)
adding: NAMESPACE (188 bytes security) (stored 0%)