##############################################################################
##############################################################################
###
### Running command:
###
### cd MEDIPSData.buildbin-libdir/MEDIPSData && zip -r ../../MEDIPSData_1.7.0.zip . & cd ../..
###
##############################################################################
##############################################################################
adding: data/ (256 bytes security) (stored 0%)
adding: data/CS.RData (188 bytes security) (deflated 0%)
adding: data/datalist (188 bytes security) (deflated 21%)
adding: data/DE_Input.RData (188 bytes security) (deflated 3%)
adding: data/DE_MeDIP.RData (188 bytes security) (deflated 3%)
adding: data/hESCs_Input.RData (188 bytes security) (deflated 3%)
adding: data/hESCs_MeDIP.RData (188 bytes security) (deflated 3%)
adding: data/mart_gene.RData (188 bytes security) (stored 0%)
adding: data/resultTable.RData (188 bytes security) (deflated 0%)
adding: DESCRIPTION (188 bytes security) (deflated 35%)
adding: extdata/ (256 bytes security) (stored 0%)
adding: extdata/DE.Input.chr22.bam (188 bytes security) (deflated 0%)
adding: extdata/hESCs.Input.chr22.bam (188 bytes security) (deflated 0%)
adding: extdata/hESCs.MeDIP.Rep1.chr22.bam (188 bytes security) (deflated 0%)
adding: extdata/hESCs.MeDIP.Rep2.chr22.bam (188 bytes security) (deflated 0%)
adding: help/ (256 bytes security) (stored 0%)
adding: help/aliases.rds (188 bytes security) (stored 0%)
adding: help/AnIndex (188 bytes security) (deflated 45%)
adding: help/MEDIPSData.rdb (188 bytes security) (deflated 1%)
adding: help/MEDIPSData.rdx (188 bytes security) (stored 0%)
adding: help/paths.rds (188 bytes security) (stored 0%)
adding: html/ (256 bytes security) (stored 0%)
adding: html/00Index.html (188 bytes security) (deflated 62%)
adding: html/R.css (188 bytes security) (deflated 75%)
adding: INDEX (188 bytes security) (deflated 65%)
adding: MD5 (188 bytes security) (deflated 45%)
adding: Meta/ (256 bytes security) (stored 0%)
adding: Meta/data.rds (188 bytes security) (stored 0%)
adding: Meta/hsearch.rds (188 bytes security) (stored 0%)
adding: Meta/links.rds (188 bytes security) (stored 0%)
adding: Meta/nsInfo.rds (188 bytes security) (stored 0%)
adding: Meta/package.rds (188 bytes security) (stored 0%)
adding: Meta/Rd.rds (188 bytes security) (stored 0%)
adding: NAMESPACE (188 bytes security) (stored 0%)