##############################################################################
##############################################################################
###
### Running command:
###
### rm -rf MEDIPSData.buildbin-libdir && mkdir MEDIPSData.buildbin-libdir && /Users/biocbuild/BBS/utils/build-universal.sh MEDIPSData_1.7.0.tar.gz /Library/Frameworks/R.framework/Versions/Current/Resources/bin/R MEDIPSData.buildbin-libdir
###
##############################################################################
##############################################################################
>>>>>>>
>>>>>>> INSTALLATION WITH 'R CMD INSTALL --preclean --no-multiarch --library=MEDIPSData.buildbin-libdir MEDIPSData_1.7.0.tar.gz'
>>>>>>>
* installing *source* package ‘MEDIPSData’ ...
** data
** inst
** help
*** installing help indices
** building package indices
** testing if installed package can be loaded
* DONE (MEDIPSData)