##############################################################################
##############################################################################
###
### Running command:
###
### chmod a+r MEDIPSData -R && E:\biocbld\bbs-3.3-bioc\R\bin\R.exe CMD build --keep-empty-dirs --no-resave-data MEDIPSData
###
##############################################################################
##############################################################################
* checking for file 'MEDIPSData/DESCRIPTION' ... OK
* preparing 'MEDIPSData':
* checking DESCRIPTION meta-information ... OK
* checking for LF line-endings in source and make files
* checking for empty or unneeded directories
* looking to see if a 'data/datalist' file should be added
* building 'MEDIPSData_1.8.0.tar.gz'