Back to the "Multiple platform build/check report" | A B C D E F G H I J K L M N O P Q [R] S T U V W X Y Z |
This page was generated on 2015-10-09 09:25:13 -0700 (Fri, 09 Oct 2015).
Package 854/1024 | Hostname | OS / Arch | INSTALL | BUILD | CHECK | BUILD BIN | |||||
rSFFreader 0.16.0 Matt Settles
| zin2 | Linux (Ubuntu 14.04.2 LTS) / x86_64 | OK | [ OK ] | OK | ![]() | |||||
moscato2 | Windows Server 2008 R2 Enterprise SP1 (64-bit) / x64 | OK | ERROR | skipped | skipped | ||||||
petty | Mac OS X Snow Leopard (10.6.8) / x86_64 | OK | OK | OK | OK | ![]() | |||||
morelia | Mac OS X Mavericks (10.9.5) / x86_64 | OK | OK | OK | OK | ![]() |
Package: rSFFreader |
Version: 0.16.0 |
Command: /home/biocbuild/bbs-3.1-bioc/R/bin/R CMD build --keep-empty-dirs --no-resave-data rSFFreader |
StartedAt: 2015-10-08 20:27:44 -0700 (Thu, 08 Oct 2015) |
EndedAt: 2015-10-08 20:28:07 -0700 (Thu, 08 Oct 2015) |
EllapsedTime: 22.5 seconds |
RetCode: 0 |
Status: OK |
PackageFile: rSFFreader_0.16.0.tar.gz |
PackageFileSize: 4.269 MiB |
############################################################################## ############################################################################## ### ### Running command: ### ### /home/biocbuild/bbs-3.1-bioc/R/bin/R CMD build --keep-empty-dirs --no-resave-data rSFFreader ### ############################################################################## ############################################################################## * checking for file ‘rSFFreader/DESCRIPTION’ ... OK * preparing ‘rSFFreader’: * checking DESCRIPTION meta-information ... OK * cleaning src * installing the package to build vignettes * creating vignettes ... OK * cleaning src * checking for LF line-endings in source and make files * checking for empty or unneeded directories * building ‘rSFFreader_0.16.0.tar.gz’