##############################################################################
##############################################################################
###
### Running command:
###
### /Library/Frameworks/R.framework/Versions/Current/Resources/bin/R CMD INSTALL rSFFreader
###
##############################################################################
##############################################################################
* installing to library ‘/Library/Frameworks/R.framework/Versions/3.2/Resources/library’
* installing *source* package ‘rSFFreader’ ...
** libs
llvm-gcc-4.2 -arch x86_64 -std=gnu99 -I/Library/Frameworks/R.framework/Resources/include -DNDEBUG -I/usr/local/include -I"/Library/Frameworks/R.framework/Versions/3.2/Resources/library/S4Vectors/include" -I"/Library/Frameworks/R.framework/Versions/3.2/Resources/library/IRanges/include" -I"/Library/Frameworks/R.framework/Versions/3.2/Resources/library/XVector/include" -I"/Library/Frameworks/R.framework/Versions/3.2/Resources/library/Biostrings/include" -fPIC -mtune=core2 -g -O2 -Wall -c Biostrings_stubs.c -o Biostrings_stubs.o
llvm-gcc-4.2 -arch x86_64 -std=gnu99 -I/Library/Frameworks/R.framework/Resources/include -DNDEBUG -I/usr/local/include -I"/Library/Frameworks/R.framework/Versions/3.2/Resources/library/S4Vectors/include" -I"/Library/Frameworks/R.framework/Versions/3.2/Resources/library/IRanges/include" -I"/Library/Frameworks/R.framework/Versions/3.2/Resources/library/XVector/include" -I"/Library/Frameworks/R.framework/Versions/3.2/Resources/library/Biostrings/include" -fPIC -mtune=core2 -g -O2 -Wall -c IRanges_stubs.c -o IRanges_stubs.o
llvm-gcc-4.2 -arch x86_64 -std=gnu99 -I/Library/Frameworks/R.framework/Resources/include -DNDEBUG -I/usr/local/include -I"/Library/Frameworks/R.framework/Versions/3.2/Resources/library/S4Vectors/include" -I"/Library/Frameworks/R.framework/Versions/3.2/Resources/library/IRanges/include" -I"/Library/Frameworks/R.framework/Versions/3.2/Resources/library/XVector/include" -I"/Library/Frameworks/R.framework/Versions/3.2/Resources/library/Biostrings/include" -fPIC -mtune=core2 -g -O2 -Wall -c R_init_rSFFreader.c -o R_init_rSFFreader.o
llvm-gcc-4.2 -arch x86_64 -std=gnu99 -I/Library/Frameworks/R.framework/Resources/include -DNDEBUG -I/usr/local/include -I"/Library/Frameworks/R.framework/Versions/3.2/Resources/library/S4Vectors/include" -I"/Library/Frameworks/R.framework/Versions/3.2/Resources/library/IRanges/include" -I"/Library/Frameworks/R.framework/Versions/3.2/Resources/library/XVector/include" -I"/Library/Frameworks/R.framework/Versions/3.2/Resources/library/Biostrings/include" -fPIC -mtune=core2 -g -O2 -Wall -c S4Vectors_stubs.c -o S4Vectors_stubs.o
llvm-gcc-4.2 -arch x86_64 -std=gnu99 -I/Library/Frameworks/R.framework/Resources/include -DNDEBUG -I/usr/local/include -I"/Library/Frameworks/R.framework/Versions/3.2/Resources/library/S4Vectors/include" -I"/Library/Frameworks/R.framework/Versions/3.2/Resources/library/IRanges/include" -I"/Library/Frameworks/R.framework/Versions/3.2/Resources/library/XVector/include" -I"/Library/Frameworks/R.framework/Versions/3.2/Resources/library/Biostrings/include" -fPIC -mtune=core2 -g -O2 -Wall -c SFF-io.c -o SFF-io.o
llvm-gcc-4.2 -arch x86_64 -std=gnu99 -I/Library/Frameworks/R.framework/Resources/include -DNDEBUG -I/usr/local/include -I"/Library/Frameworks/R.framework/Versions/3.2/Resources/library/S4Vectors/include" -I"/Library/Frameworks/R.framework/Versions/3.2/Resources/library/IRanges/include" -I"/Library/Frameworks/R.framework/Versions/3.2/Resources/library/XVector/include" -I"/Library/Frameworks/R.framework/Versions/3.2/Resources/library/Biostrings/include" -fPIC -mtune=core2 -g -O2 -Wall -c XVector_stubs.c -o XVector_stubs.o
llvm-gcc-4.2 -arch x86_64 -std=gnu99 -dynamiclib -Wl,-headerpad_max_install_names -undefined dynamic_lookup -single_module -multiply_defined suppress -L/Library/Frameworks/R.framework/Resources/lib -L/usr/local/lib -L/usr/local/lib -o rSFFreader.so Biostrings_stubs.o IRanges_stubs.o R_init_rSFFreader.o S4Vectors_stubs.o SFF-io.o XVector_stubs.o -F/Library/Frameworks/R.framework/.. -framework R -Wl,-framework -Wl,CoreFoundation
installing to /Library/Frameworks/R.framework/Versions/3.2/Resources/library/rSFFreader/libs
** R
** inst
** preparing package for lazy loading
Creating a generic function for ‘nchar’ from package ‘base’ in package ‘S4Vectors’
** help
*** installing help indices
** building package indices
** installing vignettes
** testing if installed package can be loaded
Creating a generic function for ‘nchar’ from package ‘base’ in package ‘S4Vectors’
* DONE (rSFFreader)