##############################################################################
##############################################################################
###
### Running command:
###
### chmod a+r rSFFreader -R && E:\biocbld\bbs-3.1-bioc\R\bin\R.exe CMD build --keep-empty-dirs --no-resave-data rSFFreader
###
##############################################################################
##############################################################################
* checking for file 'rSFFreader/DESCRIPTION' ... OK
* preparing 'rSFFreader':
* checking DESCRIPTION meta-information ... OK
* cleaning src
* installing the package to build vignettes
* creating vignettes ...Warning: running command '"E:/biocbld/bbs-3.1-bioc/R/bin/x64/Rscript" --vanilla --default-packages= -e "tools::buildVignettes(dir = '.', tangle = TRUE)"' had status 1
ERROR
Loading required package: ShortRead
Loading required package: BiocGenerics
Loading required package: parallel
Attaching package: 'BiocGenerics'
The following objects are masked from 'package:parallel':
clusterApply, clusterApplyLB, clusterCall,
clusterEvalQ, clusterExport, clusterMap,
parApply, parCapply, parLapply, parLapplyLB,
parRapply, parSapply, parSapplyLB
The following object is masked from 'package:stats':
xtabs
The following objects are masked from 'package:base':
Filter, Find, Map, Position, Reduce,
anyDuplicated, append, as.data.frame, as.vector,
cbind, colnames, do.call, duplicated, eval,
evalq, get, intersect, is.unsorted, lapply,
mapply, match, mget, order, paste, pmax,
pmax.int, pmin, pmin.int, rank, rbind, rep.int,
rownames, sapply, setdiff, sort, table, tapply,
union, unique, unlist, unsplit
Loading required package: BiocParallel
Loading required package: Biostrings
Loading required package: S4Vectors
Loading required package: stats4
Creating a generic function for 'nchar' from package 'base' in package 'S4Vectors'
Loading required package: IRanges
Loading required package: XVector
Loading required package: Rsamtools
Loading required package: GenomeInfoDb
Loading required package: GenomicRanges
Loading required package: GenomicAlignments
Warning in readSff(system.file("extdata", "Small454Test.sff", package = "rSFFreader")) :
Reached total allocation of 16371Mb: see help(memory.size)
Warning in readSff(system.file("extdata", "Small454Test.sff", package = "rSFFreader")) :
Reached total allocation of 16371Mb: see help(memory.size)
Warning in readSff(system.file("extdata", "Small454Test.sff", package = "rSFFreader")) :
Reached total allocation of 16371Mb: see help(memory.size)
Warning in readSff(system.file("extdata", "Small454Test.sff", package = "rSFFreader")) :
Reached total allocation of 16371Mb: see help(memory.size)
Error: processing vignette 'rSFFreader.Rnw' failed with diagnostics:
chunk 3 (label = Reads454)
Error : cannot allocate vector of size 912.3 Mb
Execution halted