Back to the "Multiple platform build/check report" | [A] B C D E F G H I J K L M N O P Q R S T U V W X Y Z |
This page was generated on 2015-10-09 09:32:45 -0700 (Fri, 09 Oct 2015).
Package 49/1024 | Hostname | OS / Arch | INSTALL | BUILD | CHECK | BUILD BIN | |||||
apComplex 2.34.0 Denise Scholtens
| zin2 | Linux (Ubuntu 14.04.2 LTS) / x86_64 | OK | OK | OK | ||||||
moscato2 | Windows Server 2008 R2 Enterprise SP1 (64-bit) / x64 | OK | OK | OK | OK | ||||||
petty | Mac OS X Snow Leopard (10.6.8) / x86_64 | OK | [ OK ] | OK | OK | ||||||
morelia | Mac OS X Mavericks (10.9.5) / x86_64 | OK | OK | OK | OK |
Package: apComplex |
Version: 2.34.0 |
Command: /Library/Frameworks/R.framework/Versions/Current/Resources/bin/R CMD build --keep-empty-dirs --no-resave-data apComplex |
StartedAt: 2015-10-08 18:24:46 -0700 (Thu, 08 Oct 2015) |
EndedAt: 2015-10-08 18:25:12 -0700 (Thu, 08 Oct 2015) |
EllapsedTime: 25.6 seconds |
RetCode: 0 |
Status: OK |
PackageFile: apComplex_2.34.0.tar.gz |
PackageFileSize: 662.8 KiB |
############################################################################## ############################################################################## ### ### Running command: ### ### /Library/Frameworks/R.framework/Versions/Current/Resources/bin/R CMD build --keep-empty-dirs --no-resave-data apComplex ### ############################################################################## ############################################################################## * checking for file ‘apComplex/DESCRIPTION’ ... OK * preparing ‘apComplex’: * checking DESCRIPTION meta-information ... OK * installing the package to build vignettes * creating vignettes ... OK * checking for LF line-endings in source and make files * checking for empty or unneeded directories * looking to see if a ‘data/datalist’ file should be added * building ‘apComplex_2.34.0.tar.gz’