##############################################################################
##############################################################################
###
### Running command:
###
### rm -rf apComplex.buildbin-libdir && mkdir apComplex.buildbin-libdir && /Users/biocbuild/BBS/utils/build-universal.sh apComplex_2.34.0.tar.gz /Library/Frameworks/R.framework/Versions/Current/Resources/bin/R apComplex.buildbin-libdir
###
##############################################################################
##############################################################################
>>>>>>>
>>>>>>> INSTALLATION WITH 'R CMD INSTALL --preclean --no-multiarch --library=apComplex.buildbin-libdir apComplex_2.34.0.tar.gz'
>>>>>>>
* installing *source* package ‘apComplex’ ...
** R
** data
** inst
** preparing package for lazy loading
Creating a generic function for ‘nchar’ from package ‘base’ in package ‘S4Vectors’
** help
*** installing help indices
** building package indices
** installing vignettes
** testing if installed package can be loaded
Creating a generic function for ‘nchar’ from package ‘base’ in package ‘S4Vectors’
* DONE (apComplex)