##############################################################################
##############################################################################
###
### Running command:
###
### cd apComplex.buildbin-libdir/apComplex && zip -r ../../apComplex_2.34.0.zip . & cd ../..
###
##############################################################################
##############################################################################
adding: data/ (256 bytes security) (stored 0%)
adding: data/apEX.rda (188 bytes security) (stored 0%)
adding: data/apEXG.rda (188 bytes security) (stored 0%)
adding: data/gavin06FilteredEstimates.rda (188 bytes security) (stored 0%)
adding: data/gavinBP2006.rda (188 bytes security) (deflated 0%)
adding: data/HMSPCI.rda (188 bytes security) (stored 0%)
adding: data/HMSPCIgraph.rda (188 bytes security) (stored 0%)
adding: data/Krogan.rda (188 bytes security) (deflated 6%)
adding: data/krogan06FilteredEstimates.rda (188 bytes security) (deflated 0%)
adding: data/kroganBPMat2006.rda (188 bytes security) (deflated 0%)
adding: data/MBMEcHMSPCI.rda (188 bytes security) (deflated 5%)
adding: data/MBMEcKrogan.rda (188 bytes security) (deflated 1%)
adding: data/MBMEcTAP.rda (188 bytes security) (deflated 7%)
adding: data/SBMHcHMSPCI.rda (188 bytes security) (stored 0%)
adding: data/SBMHcTAP.rda (188 bytes security) (stored 0%)
adding: data/TAP.rda (188 bytes security) (stored 0%)
adding: data/TAPgraph.rda (188 bytes security) (stored 0%)
adding: data/UnRBBcHMSPCI.rda (188 bytes security) (stored 0%)
adding: data/UnRBBcTAP.rda (188 bytes security) (deflated 14%)
adding: data/yNameTAP.rda (188 bytes security) (stored 0%)
adding: data/yTAP.rda (188 bytes security) (stored 0%)
adding: DESCRIPTION (188 bytes security) (deflated 39%)
adding: doc/ (256 bytes security) (stored 0%)
adding: doc/apComplex.pdf (188 bytes security) (deflated 14%)
adding: doc/apComplex.R (188 bytes security) (deflated 77%)
adding: doc/apComplex.Rnw (188 bytes security) (deflated 66%)
adding: doc/index.html (188 bytes security) (deflated 59%)
adding: help/ (256 bytes security) (stored 0%)
adding: help/aliases.rds (188 bytes security) (stored 0%)
adding: help/AnIndex (188 bytes security) (deflated 64%)
adding: help/apComplex.rdb (188 bytes security) (deflated 1%)
adding: help/apComplex.rdx (188 bytes security) (stored 0%)
adding: help/paths.rds (188 bytes security) (stored 0%)
adding: html/ (256 bytes security) (stored 0%)
adding: html/00Index.html (188 bytes security) (deflated 77%)
adding: html/R.css (188 bytes security) (deflated 75%)
adding: INDEX (188 bytes security) (deflated 67%)
adding: MD5 (188 bytes security) (deflated 46%)
adding: Meta/ (256 bytes security) (stored 0%)
adding: Meta/data.rds (188 bytes security) (stored 0%)
adding: Meta/hsearch.rds (188 bytes security) (stored 0%)
adding: Meta/links.rds (188 bytes security) (stored 0%)
adding: Meta/nsInfo.rds (188 bytes security) (stored 0%)
adding: Meta/package.rds (188 bytes security) (stored 0%)
adding: Meta/Rd.rds (188 bytes security) (stored 0%)
adding: Meta/vignette.rds (188 bytes security) (stored 0%)
adding: NAMESPACE (188 bytes security) (deflated 30%)
adding: R/ (256 bytes security) (stored 0%)
adding: R/apComplex (188 bytes security) (deflated 41%)
adding: R/apComplex.rdb (188 bytes security) (deflated 2%)
adding: R/apComplex.rdx (188 bytes security) (stored 0%)