Back to the "Multiple platform build/check report" | A B C D E F G H I J K L M N O P Q [R] S T U V W X Y Z |
Package 341/444 | Hostname | OS / Arch | BUILD | CHECK | BUILD BIN | ||||
RankProd 2.23.0 Fangxin Hong
| lamb1 | Linux (openSUSE 11.3) / x86_64 | OK | OK | |||||
liverpool | Windows Server 2003 R2 (32-bit) / x64 | OK | OK | OK | |||||
gewurz | Windows Server 2008 R2 Enterprise (64-bit) / x64 | OK | OK | OK | |||||
pelham | Mac OS X Leopard (10.5.8) / i386 | OK | OK | OK | |||||
petty | Mac OS X Snow Leopard (10.6.6) / i386 | [ OK ] | OK | OK |
Package: RankProd |
Version: 2.23.0 |
Command: /Library/Frameworks/R.framework/Versions/2.13/Resources/bin/R CMD build RankProd |
StartedAt: 2011-03-17 13:41:43 -0700 (Thu, 17 Mar 2011) |
EndedAt: 2011-03-17 13:42:05 -0700 (Thu, 17 Mar 2011) |
EllapsedTime: 22.4 seconds |
RetCode: 0 |
Status: OK |
PackageFile: RankProd_2.23.0.tar.gz |
PackageFileSize: 428.1 KiB |
* checking for file 'RankProd/DESCRIPTION' ... OK * preparing 'RankProd': * checking DESCRIPTION meta-information ... OK * installing the package to re-build vignettes * creating vignettes ... OK * checking for LF line-endings in source and make files * checking for empty or unneeded directories * looking to see if a 'data/datalist' file should be added * building 'RankProd_2.23.0.tar.gz'