Back to the "Multiple platform build/check report" | A B C D E F G H I J K L M N O P Q [R] S T U V W X Y Z |
Package 362/467 | Hostname | OS / Arch | BUILD | CHECK | BUILD BIN | ||||
RankProd 2.24.0 Fangxin Hong
| lamb1 | Linux (openSUSE 11.3) / x86_64 | OK | OK | |||||
liverpool | Windows Server 2003 R2 (32-bit) / x64 | [ OK ] | OK | OK | |||||
gewurz | Windows Server 2008 R2 Enterprise SP1 (64-bit) / x64 | OK | WARNINGS | OK | |||||
pelham | Mac OS X Leopard (10.5.8) / i386 | OK | OK | OK |
Package: RankProd |
Version: 2.24.0 |
Command: chmod a+r RankProd -R && E:\biocbld\bbs-2.8-bioc\R\bin\R.exe CMD build --keep-empty-dirs --no-resave-data RankProd |
StartedAt: 2011-10-20 11:29:14 -0700 (Thu, 20 Oct 2011) |
EndedAt: 2011-10-20 11:29:37 -0700 (Thu, 20 Oct 2011) |
EllapsedTime: 23.4 seconds |
RetCode: 0 |
Status: OK |
PackageFile: RankProd_2.24.0.tar.gz |
PackageFileSize: 429.8 KiB |
* checking for file 'RankProd/DESCRIPTION' ... OK * preparing 'RankProd': * checking DESCRIPTION meta-information ... OK * installing the package to re-build vignettes * creating vignettes ... OK * checking for LF line-endings in source and make files * checking for empty or unneeded directories * looking to see if a 'data/datalist' file should be added * building 'RankProd_2.24.0.tar.gz'