Back to the "Multiple platform build/check report" | A B C D E F G H I J K L M N O P Q [R] S T U V W X Y Z |
Package 362/467 | Hostname | OS / Arch | BUILD | CHECK | BUILD BIN | ||||
RankProd 2.24.0 Fangxin Hong
| lamb1 | Linux (openSUSE 11.3) / x86_64 | OK | OK | |||||
liverpool | Windows Server 2003 R2 (32-bit) / x64 | OK | OK | OK | |||||
gewurz | Windows Server 2008 R2 Enterprise SP1 (64-bit) / x64 | OK | WARNINGS | OK | |||||
pelham | Mac OS X Leopard (10.5.8) / i386 | OK | OK | [ OK ] |
Package: RankProd |
Version: 2.24.0 |
Command: rm -rf RankProd.buildbin-libdir && mkdir RankProd.buildbin-libdir && /Users/biocbuild/BBS/utils/build-universal.sh RankProd_2.24.0.tar.gz /Library/Frameworks/R.framework/Versions/2.13/Resources/bin/R RankProd.buildbin-libdir |
StartedAt: 2011-10-20 18:25:00 -0700 (Thu, 20 Oct 2011) |
EndedAt: 2011-10-20 18:25:05 -0700 (Thu, 20 Oct 2011) |
EllapsedTime: 4.3 seconds |
RetCode: 0 |
Status: OK |
PackageFile: RankProd_2.24.0.tgz |
PackageFileSize: 471.5 KiB |
>>>>>>> >>>>>>> INSTALLATION WITH 'R CMD INSTALL --preclean --library=RankProd.buildbin-libdir RankProd_2.24.0.tar.gz' >>>>>>> * installing *source* package 'RankProd' ... ** R ** data ** inst ** preparing package for lazy loading ** help *** installing help indices ** building package indices ... ** testing if installed package can be loaded * DONE (RankProd)