* using log directory 'E:/biocbld/bbs-2.8-bioc/meat/BayesPeak.Rcheck'
* using R version 2.13.2 (2011-09-30)
* using platform: i386-pc-mingw32 (32-bit)
* using session charset: ISO8859-1
* using option '--no-vignettes'
* checking for file 'BayesPeak/DESCRIPTION' ... OK
* this is package 'BayesPeak' version '1.4.3'
* checking package namespace information ... OK
* checking package dependencies ... NOTE
Package which this enhances but not available for checking: multicore
* checking if this is a source package ... OK
* checking whether package 'BayesPeak' can be installed ... OK
* checking installed package size ... NOTE
installed size is 7.0Mb
sub-directories of 1Mb or more:
data 1.2Mb
extdata 5.0Mb
* checking package directory ... OK
* checking for portable file names ... OK
* checking DESCRIPTION meta-information ... OK
* checking top-level files ... OK
* checking index information ... OK
* checking package subdirectories ... OK
* checking R files for non-ASCII characters ... OK
* checking R files for syntax errors ... OK
* checking whether the package can be loaded ... OK
* checking whether the package can be loaded with stated dependencies ... OK
* checking whether the package can be unloaded cleanly ... OK
* checking whether the namespace can be loaded with stated dependencies ... OK
* checking whether the namespace can be unloaded cleanly ... OK
* checking for unstated dependencies in R code ... OK
* checking S3 generic/method consistency ... OK
* checking replacement functions ... OK
* checking foreign function calls ... OK
* checking R code for possible problems ... OK
* checking Rd files ... OK
* checking Rd metadata ... OK
* checking Rd cross-references ... NOTE
Package(s) unavailable to check Rd xrefs: 'multicore'
* checking for missing documentation entries ... OK
* checking for code/documentation mismatches ... OK
* checking Rd \usage sections ... OK
* checking Rd contents ... OK
* checking for unstated dependencies in examples ... OK
* checking contents of 'data' directory ... OK
* checking data for non-ASCII characters ... OK
* checking data for ASCII and uncompressed saves ... OK
* checking line endings in C/C++/Fortran sources/headers ... OK
* checking line endings in Makefiles ... OK
* checking for portable use of $(BLAS_LIBS) and $(LAPACK_LIBS) ... OK
* checking examples ... OK
* checking for unstated dependencies in vignettes ... OK
* checking package vignettes in 'inst/doc' ... OK
* checking running R code from vignettes ... SKIPPED
* checking re-building of vignettes ... SKIPPED
* checking PDF version of manual ... OK
* installing *source* package 'BayesPeak' ...
** libs
gcc -I"E:/biocbld/BBS-2˜1.8-B/R/include" -O3 -Wall -std=gnu99 -c bayespeak.c -o bayespeak.o
gcc -shared -s -static-libgcc -o BayesPeak.dll tmp.def bayespeak.o -LE:/biocbld/BBS-2˜1.8-B/R/bin/i386 -lR
installing to E:/biocbld/bbs-2.8-bioc/meat/BayesPeak.Rcheck/BayesPeak/libs/i386
** R
** data
** inst
** preparing package for lazy loading
** help
*** installing help indices
** building package indices ...
** testing if installed package can be loaded
* DONE (BayesPeak)