Back to the "Multiple platform build/check report" | A [B] C D E F G H I J K L M N O P Q R S T U V W X Y Z |
Package 46/467 | Hostname | OS / Arch | BUILD | CHECK | BUILD BIN | ||||
BayesPeak 1.4.3 Jonathan Cairns
| lamb1 | Linux (openSUSE 11.3) / x86_64 | [ OK ] | OK | |||||
liverpool | Windows Server 2003 R2 (32-bit) / x64 | OK | OK | OK | |||||
gewurz | Windows Server 2008 R2 Enterprise SP1 (64-bit) / x64 | OK | WARNINGS | OK | |||||
pelham | Mac OS X Leopard (10.5.8) / i386 | OK | OK | OK |
Package: BayesPeak |
Version: 1.4.3 |
Command: /home/biocbuild/bbs-2.8-bioc/R/bin/R CMD build --keep-empty-dirs --no-resave-data BayesPeak |
StartedAt: 2011-10-20 10:56:53 -0700 (Thu, 20 Oct 2011) |
EndedAt: 2011-10-20 10:57:07 -0700 (Thu, 20 Oct 2011) |
EllapsedTime: 13.8 seconds |
RetCode: 0 |
Status: OK |
PackageFile: BayesPeak_1.4.3.tar.gz |
PackageFileSize: 2.069 MiB |
* checking for file ‘BayesPeak/DESCRIPTION’ ... OK * preparing ‘BayesPeak’: * checking DESCRIPTION meta-information ... OK * cleaning src * installing the package to re-build vignettes * creating vignettes ... OK * cleaning src * checking for LF line-endings in source and make files * checking for empty or unneeded directories * looking to see if a 'data/datalist' file should be added * building ‘BayesPeak_1.4.3.tar.gz’