Back to the "Multiple platform build/check report" | A [B] C D E F G H I J K L M N O P Q R S T U V W X Y Z |
Package 46/467 | Hostname | OS / Arch | BUILD | CHECK | BUILD BIN | ||||
BayesPeak 1.4.3 Jonathan Cairns
| lamb1 | Linux (openSUSE 11.3) / x86_64 | OK | OK | |||||
liverpool | Windows Server 2003 R2 (32-bit) / x64 | OK | OK | OK | |||||
gewurz | Windows Server 2008 R2 Enterprise SP1 (64-bit) / x64 | OK | WARNINGS | [ OK ] | |||||
pelham | Mac OS X Leopard (10.5.8) / i386 | OK | OK | OK |
Package: BayesPeak |
Version: 1.4.3 |
Command: rm -rf BayesPeak.buildbin-libdir && mkdir BayesPeak.buildbin-libdir && D:\biocbld\bbs-2.8-bioc\R\bin\R.exe CMD INSTALL --build --no-multiarch --library=BayesPeak.buildbin-libdir BayesPeak_1.4.3.tar.gz |
StartedAt: 2011-10-20 17:22:26 -0700 (Thu, 20 Oct 2011) |
EndedAt: 2011-10-20 17:22:35 -0700 (Thu, 20 Oct 2011) |
EllapsedTime: 9.1 seconds |
RetCode: 0 |
Status: OK |
PackageFile: BayesPeak_1.4.3.zip |
PackageFileSize: 1.793 MiB |
* installing *source* package 'BayesPeak' ... ** libs x86_64-w64-mingw32-gcc -I"D:/biocbld/bbs-2.8-bioc/R/include" -O2 -Wall -std=gnu99 -c bayespeak.c -o bayespeak.o x86_64-w64-mingw32-gcc -shared -s -static-libgcc -o BayesPeak.dll tmp.def bayespeak.o -LD:/biocbld/bbs-2.8-bioc/R/bin/x64 -lR installing to D:/biocbld/bbs-2.8-bioc/meat/BayesPeak.buildbin-libdir/BayesPeak/libs/x64 ** R ** data ** inst ** preparing package for lazy loading ** help *** installing help indices ** building package indices ... ** testing if installed package can be loaded * MD5 sums packaged installation of 'BayesPeak' as BayesPeak_1.4.3.zip * DONE (BayesPeak)