Back to the "Multiple platform build/check report" | A B C D E F G H I J K L M N O P Q [R] S T U V W X Y Z |
Package 344/436 | Hostname | OS / Arch | BUILD | CHECK | BUILD BIN | ||||
reb 1.27.0 Karl J. Dykema
| lamb2 | Linux (openSUSE 11.2) / x86_64 | [ OK ] | OK | |||||
liverpool | Windows Server 2003 R2 (32-bit) / x64 | OK | OK | OK | |||||
gewurz | Windows Server 2008 R2 Enterprise (64-bit) / x64 | OK | OK | OK | |||||
pelham | Mac OS X Leopard (10.5.8) / i386 | OK | OK | OK | |||||
petty | Mac OS X Snow Leopard (10.6.4) / i386 | OK | OK | OK |
Package: reb |
Version: 1.27.0 |
Command: /home/biocbuild/bbs-2.8-bioc/R/bin/R CMD build reb |
StartedAt: 2011-02-24 13:49:29 -0800 (Thu, 24 Feb 2011) |
EndedAt: 2011-02-24 13:49:46 -0800 (Thu, 24 Feb 2011) |
EllapsedTime: 17.0 seconds |
RetCode: 0 |
Status: OK |
PackageFile: reb_1.27.0.tar.gz |
PackageFileSize: 604 KiB |
* checking for file ‘reb/DESCRIPTION’ ... OK * preparing ‘reb’: * checking DESCRIPTION meta-information ... OK * cleaning src * installing the package to re-build vignettes * creating vignettes ... OK * cleaning src * checking for LF line-endings in source and make files * checking for empty or unneeded directories * building ‘reb_1.27.0.tar.gz’