* installing *source* package 'reb' ...
** libs
x86_64-w64-mingw32-gcc -I"D:/biocbld/bbs-2.8-bioc/R/include" -O2 -Wall -std=gnu99 -c movbin.c -o movbin.o
x86_64-w64-mingw32-gcc -shared -s -static-libgcc -o reb.dll tmp.def movbin.o -LD:/biocbld/bbs-2.8-bioc/R/bin/x64 -lR
installing to D:/biocbld/bbs-2.8-bioc/meat/reb.buildbin-libdir/reb/libs/x64
** R
** data
** inst
** preparing package for lazy loading
Welcome to Bioconductor
Vignettes contain introductory material. To view, type
'browseVignettes()'. To cite Bioconductor, see
'citation("Biobase")' and for packages 'citation(pkgname)'.
Loading required package: annotate
Loading required package: AnnotationDbi
Loading required package: plotrix
** help
*** installing help indices
** building package indices ...
** testing if installed package can be loaded
* MD5 sums
packaged installation of 'reb' as reb_1.27.0.zip
* DONE (reb)