Back to the "Multiple platform build/check report" | A B [C] D E F G H I J K L M N O P Q R S T U V W X Y Z |
Package 88/436 | Hostname | OS / Arch | BUILD | CHECK | BUILD BIN | ||||
CNVtools 1.45.0 Chris Barnes
| lamb2 | Linux (openSUSE 11.2) / x86_64 | OK | OK | |||||
liverpool | Windows Server 2003 R2 (32-bit) / x64 | OK | OK | OK | |||||
gewurz | Windows Server 2008 R2 Enterprise (64-bit) / x64 | OK | OK | OK | |||||
pelham | Mac OS X Leopard (10.5.8) / i386 | [ OK ] | OK | OK | |||||
petty | Mac OS X Snow Leopard (10.6.4) / i386 | OK | OK | OK |
Package: CNVtools |
Version: 1.45.0 |
Command: /Library/Frameworks/R.framework/Versions/2.13/Resources/bin/R CMD build CNVtools |
StartedAt: 2011-02-24 16:53:34 -0800 (Thu, 24 Feb 2011) |
EndedAt: 2011-02-24 16:54:47 -0800 (Thu, 24 Feb 2011) |
EllapsedTime: 73.1 seconds |
RetCode: 0 |
Status: OK |
PackageFile: CNVtools_1.45.0.tar.gz |
PackageFileSize: 1.003 MiB |
* checking for file ‘CNVtools/DESCRIPTION’ ... OK * preparing ‘CNVtools’: * checking DESCRIPTION meta-information ... OK * cleaning src * installing the package to re-build vignettes * creating vignettes ... OK * cleaning src * checking for LF line-endings in source and make files * checking for empty or unneeded directories * building ‘CNVtools_1.45.0.tar.gz’