* using log directory 'D:/biocbld/bbs-2.8-bioc/meat/CNVtools.Rcheck'
* using R version 2.13.0 Under development (unstable) (2011-01-10 r53950)
* using platform: x86_64-pc-mingw32 (64-bit)
* using session charset: ISO8859-1
* using option '--no-vignettes'
* checking for file 'CNVtools/DESCRIPTION' ... OK
* checking extension type ... Package
* this is package 'CNVtools' version '1.45.0'
* checking package name space information ... OK
* checking package dependencies ... OK
* checking if this is a source package ... OK
* checking whether package 'CNVtools' can be installed ... OK
* checking package directory ... OK
* checking for portable file names ... OK
* checking DESCRIPTION meta-information ... OK
* checking top-level files ... OK
* checking index information ... OK
* checking package subdirectories ... OK
* checking R files for non-ASCII characters ... OK
* checking R files for syntax errors ... OK
* checking whether the package can be loaded ... OK
* checking whether the package can be loaded with stated dependencies ... OK
* checking whether the package can be unloaded cleanly ... OK
* checking whether the name space can be loaded with stated dependencies ... OK
* checking whether the name space can be unloaded cleanly ... OK
* checking for unstated dependencies in R code ... OK
* checking S3 generic/method consistency ... OK
* checking replacement functions ... OK
* checking foreign function calls ... OK
* checking R code for possible problems ... OK
* checking Rd files ... OK
* checking Rd metadata ... OK
* checking Rd cross-references ... OK
* checking for missing documentation entries ... OK
* checking for code/documentation mismatches ... OK
* checking Rd \usage sections ... OK
* checking Rd contents ... OK
* checking for unstated dependencies in examples ... OK
* checking data for non-ASCII characters ... OK
* checking line endings in C/C++/Fortran sources/headers ... OK
* checking line endings in Makefiles ... OK
* checking for portable use of $BLAS_LIBS ... OK
* checking examples ... OK
* checking package vignettes in 'inst/doc' ... SKIPPED
* checking PDF version of manual ... OK
* installing *source* package 'CNVtools' ...
** libs
x86_64-w64-mingw32-g++ -I"D:/biocbld/BBS-2˜1.8-B/R/include" -O2 -Wall -c fitmodel.cpp -o fitmodel.o
x86_64-w64-mingw32-g++ -I"D:/biocbld/BBS-2˜1.8-B/R/include" -O2 -Wall -c glm_test.cpp -o glm_test.o
x86_64-w64-mingw32-g++ -I"D:/biocbld/BBS-2˜1.8-B/R/include" -O2 -Wall -c mla.cpp -o mla.o
x86_64-w64-mingw32-g++ -I"D:/biocbld/BBS-2˜1.8-B/R/include" -O2 -Wall -c routine.cpp -o routine.o
x86_64-w64-mingw32-gcc -I"D:/biocbld/BBS-2˜1.8-B/R/include" -O2 -Wall -std=gnu99 -c zeroin.c -o zeroin.o
x86_64-w64-mingw32-g++ -shared -s -static-libgcc -o CNVtools.dll tmp.def fitmodel.o glm_test.o mla.o routine.o zeroin.o -LD:/biocbld/BBS-2˜1.8-B/R/bin/x64 -lR
installing to D:/biocbld/bbs-2.8-bioc/meat/CNVtools.Rcheck/CNVtools/libs/x64
** R
** data
** inst
** preparing package for lazy loading
Loading required package: splines
** help
*** installing help indices
** building package indices ...
** testing if installed package can be loaded
* DONE (CNVtools)