>>>>>>>
>>>>>>> INSTALLATION WITH 'R CMD INSTALL --preclean --library=CNVtools.buildbin-libdir CNVtools_1.45.0.tar.gz'
>>>>>>>
* installing *source* package ‘CNVtools’ ...
** libs
*** arch - i386
g++ -arch i386 -I/Library/Frameworks/R.framework/Versions/2.13/Resources/include -I/Library/Frameworks/R.framework/Versions/2.13/Resources/include/i386 -I/usr/local/include -fPIC -g -O2 -Wall -fasm-blocks -c fitmodel.cpp -o fitmodel.o
g++ -arch i386 -I/Library/Frameworks/R.framework/Versions/2.13/Resources/include -I/Library/Frameworks/R.framework/Versions/2.13/Resources/include/i386 -I/usr/local/include -fPIC -g -O2 -Wall -fasm-blocks -c glm_test.cpp -o glm_test.o
g++ -arch i386 -I/Library/Frameworks/R.framework/Versions/2.13/Resources/include -I/Library/Frameworks/R.framework/Versions/2.13/Resources/include/i386 -I/usr/local/include -fPIC -g -O2 -Wall -fasm-blocks -c mla.cpp -o mla.o
g++ -arch i386 -I/Library/Frameworks/R.framework/Versions/2.13/Resources/include -I/Library/Frameworks/R.framework/Versions/2.13/Resources/include/i386 -I/usr/local/include -fPIC -g -O2 -Wall -fasm-blocks -c routine.cpp -o routine.o
gcc -arch i386 -std=gnu99 -I/Library/Frameworks/R.framework/Versions/2.13/Resources/include -I/Library/Frameworks/R.framework/Versions/2.13/Resources/include/i386 -I/usr/local/include -fPIC -g -O2 -Wall -pedantic -c zeroin.c -o zeroin.o
g++ -arch i386 -dynamiclib -Wl,-headerpad_max_install_names -undefined dynamic_lookup -single_module -multiply_defined suppress -L/usr/local/lib -o CNVtools.so fitmodel.o glm_test.o mla.o routine.o zeroin.o -F/Library/Frameworks/R.framework/.. -framework R -Wl,-framework -Wl,CoreFoundation
installing to /Users/biocbuild/bbs-2.8-bioc/meat/CNVtools.buildbin-libdir/CNVtools/libs/i386
*** arch - ppc
g++ -arch ppc -I/Library/Frameworks/R.framework/Versions/2.13/Resources/include -I/Library/Frameworks/R.framework/Versions/2.13/Resources/include/ppc -I/usr/local/include -fPIC -g -O2 -Wall -fasm-blocks -c fitmodel.cpp -o fitmodel.o
g++ -arch ppc -I/Library/Frameworks/R.framework/Versions/2.13/Resources/include -I/Library/Frameworks/R.framework/Versions/2.13/Resources/include/ppc -I/usr/local/include -fPIC -g -O2 -Wall -fasm-blocks -c glm_test.cpp -o glm_test.o
g++ -arch ppc -I/Library/Frameworks/R.framework/Versions/2.13/Resources/include -I/Library/Frameworks/R.framework/Versions/2.13/Resources/include/ppc -I/usr/local/include -fPIC -g -O2 -Wall -fasm-blocks -c mla.cpp -o mla.o
g++ -arch ppc -I/Library/Frameworks/R.framework/Versions/2.13/Resources/include -I/Library/Frameworks/R.framework/Versions/2.13/Resources/include/ppc -I/usr/local/include -fPIC -g -O2 -Wall -fasm-blocks -c routine.cpp -o routine.o
gcc -arch ppc -std=gnu99 -I/Library/Frameworks/R.framework/Versions/2.13/Resources/include -I/Library/Frameworks/R.framework/Versions/2.13/Resources/include/ppc -I/usr/local/include -fPIC -g -O2 -Wall -pedantic -c zeroin.c -o zeroin.o
g++ -arch ppc -dynamiclib -Wl,-headerpad_max_install_names -undefined dynamic_lookup -single_module -multiply_defined suppress -L/usr/local/lib -o CNVtools.so fitmodel.o glm_test.o mla.o routine.o zeroin.o -F/Library/Frameworks/R.framework/.. -framework R -Wl,-framework -Wl,CoreFoundation
installing to /Users/biocbuild/bbs-2.8-bioc/meat/CNVtools.buildbin-libdir/CNVtools/libs/ppc
*** arch - x86_64
g++ -arch x86_64 -I/Library/Frameworks/R.framework/Versions/2.13/Resources/include -I/Library/Frameworks/R.framework/Versions/2.13/Resources/include/x86_64 -I/usr/local/include -fPIC -g -O2 -Wall -fasm-blocks -c fitmodel.cpp -o fitmodel.o
g++ -arch x86_64 -I/Library/Frameworks/R.framework/Versions/2.13/Resources/include -I/Library/Frameworks/R.framework/Versions/2.13/Resources/include/x86_64 -I/usr/local/include -fPIC -g -O2 -Wall -fasm-blocks -c glm_test.cpp -o glm_test.o
g++ -arch x86_64 -I/Library/Frameworks/R.framework/Versions/2.13/Resources/include -I/Library/Frameworks/R.framework/Versions/2.13/Resources/include/x86_64 -I/usr/local/include -fPIC -g -O2 -Wall -fasm-blocks -c mla.cpp -o mla.o
g++ -arch x86_64 -I/Library/Frameworks/R.framework/Versions/2.13/Resources/include -I/Library/Frameworks/R.framework/Versions/2.13/Resources/include/x86_64 -I/usr/local/include -fPIC -g -O2 -Wall -fasm-blocks -c routine.cpp -o routine.o
gcc -arch x86_64 -std=gnu99 -I/Library/Frameworks/R.framework/Versions/2.13/Resources/include -I/Library/Frameworks/R.framework/Versions/2.13/Resources/include/x86_64 -I/usr/local/include -fPIC -g -O2 -Wall -pedantic -c zeroin.c -o zeroin.o
g++ -arch x86_64 -dynamiclib -Wl,-headerpad_max_install_names -undefined dynamic_lookup -single_module -multiply_defined suppress -L/usr/local/lib -o CNVtools.so fitmodel.o glm_test.o mla.o routine.o zeroin.o -F/Library/Frameworks/R.framework/.. -framework R -Wl,-framework -Wl,CoreFoundation
installing to /Users/biocbuild/bbs-2.8-bioc/meat/CNVtools.buildbin-libdir/CNVtools/libs/x86_64
** R
** data
** inst
** preparing package for lazy loading
Loading required package: splines
** help
*** installing help indices
** building package indices ...
** testing if installed package can be loaded
* DONE (CNVtools)
>>>>>>>
>>>>>>> FIXING LINKS FOR CNVtools.buildbin-libdir/CNVtools/libs/i386/CNVtools.so
>>>>>>>
install_name_tool -change "/usr/local/lib/libgcc_s.1.dylib" "/Library/Frameworks/R.framework/Versions/2.13/Resources/lib/libgcc_s.1.dylib" "CNVtools.buildbin-libdir/CNVtools/libs/i386/CNVtools.so"
install_name_tool -change "/usr/local/lib/libgfortran.2.dylib" "/Library/Frameworks/R.framework/Versions/2.13/Resources/lib/libgfortran.2.dylib" "CNVtools.buildbin-libdir/CNVtools/libs/i386/CNVtools.so"
install_name_tool -change "/usr/local/lib/libreadline.5.2.dylib" "/Library/Frameworks/R.framework/Versions/2.13/Resources/lib/libreadline.5.2.dylib" "CNVtools.buildbin-libdir/CNVtools/libs/i386/CNVtools.so"
install_name_tool -change "/usr/local/lib/libreadline.dylib" "/Library/Frameworks/R.framework/Versions/2.13/Resources/lib/libreadline.dylib" "CNVtools.buildbin-libdir/CNVtools/libs/i386/CNVtools.so"
>>>>>>>
>>>>>>> FIXING LINKS FOR CNVtools.buildbin-libdir/CNVtools/libs/ppc/CNVtools.so
>>>>>>>
install_name_tool -change "/usr/local/lib/libgcc_s.1.dylib" "/Library/Frameworks/R.framework/Versions/2.13/Resources/lib/libgcc_s.1.dylib" "CNVtools.buildbin-libdir/CNVtools/libs/ppc/CNVtools.so"
install_name_tool -change "/usr/local/lib/libgfortran.2.dylib" "/Library/Frameworks/R.framework/Versions/2.13/Resources/lib/libgfortran.2.dylib" "CNVtools.buildbin-libdir/CNVtools/libs/ppc/CNVtools.so"
install_name_tool -change "/usr/local/lib/libreadline.5.2.dylib" "/Library/Frameworks/R.framework/Versions/2.13/Resources/lib/libreadline.5.2.dylib" "CNVtools.buildbin-libdir/CNVtools/libs/ppc/CNVtools.so"
install_name_tool -change "/usr/local/lib/libreadline.dylib" "/Library/Frameworks/R.framework/Versions/2.13/Resources/lib/libreadline.dylib" "CNVtools.buildbin-libdir/CNVtools/libs/ppc/CNVtools.so"
>>>>>>>
>>>>>>> FIXING LINKS FOR CNVtools.buildbin-libdir/CNVtools/libs/x86_64/CNVtools.so
>>>>>>>
install_name_tool -change "/usr/local/lib/libgcc_s.1.dylib" "/Library/Frameworks/R.framework/Versions/2.13/Resources/lib/libgcc_s.1.dylib" "CNVtools.buildbin-libdir/CNVtools/libs/x86_64/CNVtools.so"
install_name_tool -change "/usr/local/lib/libgfortran.2.dylib" "/Library/Frameworks/R.framework/Versions/2.13/Resources/lib/libgfortran.2.dylib" "CNVtools.buildbin-libdir/CNVtools/libs/x86_64/CNVtools.so"
install_name_tool -change "/usr/local/lib/libreadline.5.2.dylib" "/Library/Frameworks/R.framework/Versions/2.13/Resources/lib/libreadline.5.2.dylib" "CNVtools.buildbin-libdir/CNVtools/libs/x86_64/CNVtools.so"
install_name_tool -change "/usr/local/lib/libreadline.dylib" "/Library/Frameworks/R.framework/Versions/2.13/Resources/lib/libreadline.dylib" "CNVtools.buildbin-libdir/CNVtools/libs/x86_64/CNVtools.so"