Back to the "Multiple platform build/check report" |
Package 22/65 | Hostname | OS / Arch | BUILD | CHECK | BUILD BIN | ||||
gcspikelite 1.0.2 Mark Robinson
| wilson1 | Linux (openSUSE 11.1) / x86_64 | OK | WARNINGS | |||||
liverpool | Windows Server 2003 R2 (32-bit) / x64 | OK | WARNINGS | OK | |||||
pitt | Mac OS X Tiger (10.4.11) / i386 | OK | WARNINGS | OK | |||||
pelham | Mac OS X Leopard (10.5.7) / i386 | OK | WARNINGS | [ OK ] |
Package: gcspikelite |
Version: 1.0.2 |
Command: /Users/biocbuild/BBS/utils/build-universal.sh gcspikelite_1.0.2.tar.gz /Library/Frameworks/R.framework/Versions/2.9/Resources/bin/R gcspikelite.buildbin-libdir |
StartedAt: 2009-08-10 02:05:45 -0700 (Mon, 10 Aug 2009) |
EndedAt: 2009-08-10 02:06:32 -0700 (Mon, 10 Aug 2009) |
EllapsedTime: 47.0 seconds |
RetCode: 0 |
Status: OK |
PackageFile: gcspikelite_1.0.2.tgz |
PackageFileSize: 23.46 MiB |
INSTALLATION WITH 'R CMD INSTALL --preclean --library=gcspikelite.buildbin-libdir gcspikelite_1.0.2.tar.gz' * Installing *source* package 'gcspikelite' ... ** R ** data ** preparing package for lazy loading No man pages found in package 'gcspikelite' ** building package indices ... * DONE (gcspikelite)