Back to the "Multiple platform build/check report" |
Package 22/65 | Hostname | OS / Arch | BUILD | CHECK | BUILD BIN | ||||
gcspikelite 1.0.2 Mark Robinson
| wilson1 | Linux (openSUSE 11.1) / x86_64 | OK | WARNINGS | |||||
liverpool | Windows Server 2003 R2 (32-bit) / x64 | OK | WARNINGS | [ OK ] | |||||
pitt | Mac OS X Tiger (10.4.11) / i386 | OK | WARNINGS | OK | |||||
pelham | Mac OS X Leopard (10.5.7) / i386 | OK | WARNINGS | OK |
Package: gcspikelite |
Version: 1.0.2 |
Command: E:\biocbld\bbs-2.4-bioc\R\bin\R.exe CMD INSTALL --build --library=gcspikelite.buildbin-libdir gcspikelite_1.0.2.tar.gz |
StartedAt: 2009-08-10 02:52:16 -0700 (Mon, 10 Aug 2009) |
EndedAt: 2009-08-10 02:53:29 -0700 (Mon, 10 Aug 2009) |
EllapsedTime: 72.0 seconds |
RetCode: 0 |
Status: OK |
PackageFile: gcspikelite_1.0.2.zip |
PackageFileSize: 21.58 MiB |
* Installing *source* package 'gcspikelite' ... Using auto-selected zip options '' ** R ** data ** preparing package for lazy loading No man pages found in package 'gcspikelite' ** building package indices ... ** MD5 sums packaged installation of 'gcspikelite' as gcspikelite_1.0.2.zip * DONE (gcspikelite)