Back to the "Multiple platform build/check report" |
This page was generated on 2014-04-04 17:29:15 -0700 (Fri, 04 Apr 2014).
Package 130/181 | Hostname | OS / Arch | BUILD | CHECK | BUILD BIN | ||||
pasilla 0.2.19 Alejandro Reyes
| zin1 | Linux (Ubuntu 12.04.4 LTS) / x86_64 | OK | WARNINGS | |||||
moscato1 | Windows Server 2008 R2 Enterprise SP1 (64-bit) / x64 | OK | WARNINGS | OK | |||||
perceval | Mac OS X Snow Leopard (10.6.8) / x86_64 | OK | WARNINGS | [ OK ] |
Package: pasilla |
Version: 0.2.19 |
Command: rm -rf pasilla.buildbin-libdir && mkdir pasilla.buildbin-libdir && /Users/biocbuild/BBS/utils/build-universal.sh pasilla_0.2.19.tar.gz /Library/Frameworks/R.framework/Versions/Current/Resources/bin/R pasilla.buildbin-libdir |
StartedAt: 2014-04-04 12:36:07 -0700 (Fri, 04 Apr 2014) |
EndedAt: 2014-04-04 12:45:23 -0700 (Fri, 04 Apr 2014) |
EllapsedTime: 556.4 seconds |
RetCode: 0 |
Status: OK |
PackageFile: pasilla_0.2.19.tgz |
PackageFileSize: 3.8 MiB |
>>>>>>> >>>>>>> INSTALLATION WITH 'R CMD INSTALL --preclean --no-multiarch --library=pasilla.buildbin-libdir pasilla_0.2.19.tar.gz' >>>>>>> * installing *source* package ‘pasilla’ ... ** data ** inst ** help *** installing help indices ** building package indices ** installing vignettes ** testing if installed package can be loaded * DONE (pasilla)