adding: data/ (256 bytes security) (stored 0%)
adding: data/pasillaExons.RData (188 bytes security) (deflated 6%)
adding: data/pasillaGenes.RData (188 bytes security) (deflated 3%)
adding: DESCRIPTION (188 bytes security) (deflated 41%)
adding: doc/ (256 bytes security) (stored 0%)
adding: doc/create_objects.pdf (188 bytes security) (deflated 9%)
adding: doc/create_objects.R (188 bytes security) (deflated 68%)
adding: doc/create_objects.Rnw (188 bytes security) (deflated 64%)
adding: doc/index.html (188 bytes security) (deflated 57%)
adding: extdata/ (256 bytes security) (stored 0%)
adding: extdata/Dmel.BDGP5.25.62.DEXSeq.chr.gff (188 bytes security) (deflated 91%)
adding: extdata/geneIDsinsubset.txt (188 bytes security) (deflated 67%)
adding: extdata/pasilla_gene_counts.tsv (188 bytes security) (deflated 66%)
adding: extdata/treated1fb.txt (188 bytes security) (deflated 81%)
adding: extdata/treated2fb.txt (188 bytes security) (deflated 81%)
adding: extdata/treated3fb.txt (188 bytes security) (deflated 81%)
adding: extdata/untreated1fb.txt (188 bytes security) (deflated 81%)
adding: extdata/untreated2fb.txt (188 bytes security) (deflated 81%)
adding: extdata/untreated3fb.txt (188 bytes security) (deflated 81%)
adding: extdata/untreated4fb.txt (188 bytes security) (deflated 81%)
adding: help/ (256 bytes security) (stored 0%)
adding: help/aliases.rds (188 bytes security) (stored 0%)
adding: help/AnIndex (188 bytes security) (deflated 50%)
adding: help/pasilla.rdb (188 bytes security) (stored 0%)
adding: help/pasilla.rdx (188 bytes security) (stored 0%)
adding: help/paths.rds (188 bytes security) (stored 0%)
adding: html/ (256 bytes security) (stored 0%)
adding: html/00Index.html (188 bytes security) (deflated 56%)
adding: html/R.css (188 bytes security) (deflated 70%)
adding: INDEX (188 bytes security) (deflated 31%)
adding: MD5 (188 bytes security) (deflated 45%)
adding: Meta/ (256 bytes security) (stored 0%)
adding: Meta/data.rds (188 bytes security) (stored 0%)
adding: Meta/hsearch.rds (188 bytes security) (stored 0%)
adding: Meta/links.rds (188 bytes security) (stored 0%)
adding: Meta/nsInfo.rds (188 bytes security) (stored 0%)
adding: Meta/package.rds (188 bytes security) (stored 0%)
adding: Meta/Rd.rds (188 bytes security) (stored 0%)
adding: Meta/vignette.rds (188 bytes security) (stored 0%)
adding: NAMESPACE (188 bytes security) (stored 0%)