BioC experimental data: CHECK report for stjudem on petty
This page was generated on 2013-10-08 16:07:31 -0700 (Tue, 08 Oct 2013).
stjudem 1.2.9 Joern Toedling
Snapshot Date: 2013-10-08 10:15:19 -0700 (Tue, 08 Oct 2013) | URL: https://hedgehog.fhcrc.org/bioc-data/trunk/experiment/pkgs/stjudem | Last Changed Rev: 2317 / Revision: 2510 | Last Changed Date: 2013-04-03 15:11:40 -0700 (Wed, 03 Apr 2013) |
| george2 | Linux (Ubuntu 12.04.1 LTS) / x86_64 | OK | OK | |
moscato2 | Windows Server 2008 R2 Enterprise SP1 (64-bit) / x64 | OK | OK | OK |
petty | Mac OS X Snow Leopard (10.6.8) / x86_64 | OK | [ OK ] | OK |
Summary
Package: stjudem |
Version: 1.2.9 |
Command: /Library/Frameworks/R.framework/Versions/Current/Resources/bin/R CMD check --no-vignettes --timings --no-multiarch stjudem_1.2.9.tar.gz |
StartedAt: 2013-10-08 14:29:14 -0700 (Tue, 08 Oct 2013) |
EndedAt: 2013-10-08 14:29:49 -0700 (Tue, 08 Oct 2013) |
EllapsedTime: 34.7 seconds |
RetCode: 0 |
Status: OK |
CheckDir: stjudem.Rcheck |
Warnings: 0 |
Command output
* using log directory '/Users/biocbuild/bbs-2.12-data-experiment/meat/stjudem.Rcheck'
* using R version 3.0.1 (2013-05-16)
* using platform: x86_64-apple-darwin10.8.0 (64-bit)
* using session charset: ASCII
* using option '--no-vignettes'
* checking for file 'stjudem/DESCRIPTION' ... OK
* this is package 'stjudem' version '1.2.9'
* checking package namespace information ... OK
* checking package dependencies ... OK
* checking if this is a source package ... OK
* checking if there is a namespace ... OK
* checking for hidden files and directories ... OK
* checking for portable file names ... OK
* checking for sufficient/correct file permissions ... OK
* checking whether package 'stjudem' can be installed ... [1s/1s] OK
* checking installed package size ... NOTE
installed size is 27.7Mb
sub-directories of 1Mb or more:
data 27.6Mb
* checking package directory ... OK
* checking DESCRIPTION meta-information ... OK
* checking top-level files ... OK
* checking for left-over files ... OK
* checking index information ... OK
* checking package subdirectories ... OK
* checking R files for non-ASCII characters ... OK
* checking R files for syntax errors ... OK
* checking whether the package can be loaded ... OK
* checking whether the package can be loaded with stated dependencies ... OK
* checking whether the package can be unloaded cleanly ... OK
* checking whether the namespace can be loaded with stated dependencies ... OK
* checking whether the namespace can be unloaded cleanly ... OK
* checking for unstated dependencies in R code ... OK
* checking S3 generic/method consistency ... OK
* checking replacement functions ... OK
* checking foreign function calls ... OK
* checking R code for possible problems ... NOTE
File 'stjudem/R/zzz.R':
.onLoad calls:
packageStartupMessage("Type 'data(stjude)' to load the data set.")
packageStartupMessage("Then type 'summary(stjude)' for an overview of the data structure.")
packageStartupMessage("See package 'macat' for examplary analyses.")
See section 'Good practice' in '?.onAttach'.
* checking Rd files ... OK
* checking Rd metadata ... OK
* checking Rd cross-references ... OK
* checking for missing documentation entries ... OK
* checking for code/documentation mismatches ... OK
* checking Rd \usage sections ... OK
* checking Rd contents ... OK
* checking for unstated dependencies in examples ... OK
* checking contents of 'data' directory ... OK
* checking data for non-ASCII characters ... OK
* checking data for ASCII and uncompressed saves ... OK
* checking examples ... [4s/4s] OK
* checking PDF version of manual ... OK
NOTE: There were 2 notes.
See
'/Users/biocbuild/bbs-2.12-data-experiment/meat/stjudem.Rcheck/00check.log'
for details.
stjudem.Rcheck/00install.out:
* installing *source* package 'stjudem' ...
** R
** data
** preparing package for lazy loading
** help
*** installing help indices
** building package indices
** testing if installed package can be loaded
* DONE (stjudem)
stjudem.Rcheck/stjudem-Ex.timings:
name | user | system | elapsed
|
stjude | 3.321 | 0.116 | 3.436 |
|