Back to the "Multiple platform build/check report" |
This page was generated on 2013-10-08 16:07:05 -0700 (Tue, 08 Oct 2013).
Package 142/156 | Hostname | OS / Arch | BUILD | CHECK | BUILD BIN | ||||
stjudem 1.2.9 Joern Toedling
| george2 | Linux (Ubuntu 12.04.1 LTS) / x86_64 | [ OK ] | OK | |||||
moscato2 | Windows Server 2008 R2 Enterprise SP1 (64-bit) / x64 | OK | OK | OK | |||||
petty | Mac OS X Snow Leopard (10.6.8) / x86_64 | OK | OK | OK |
Package: stjudem |
Version: 1.2.9 |
Command: /home/biocbuild/bbs-2.12-bioc/R/bin/R CMD build --keep-empty-dirs --no-resave-data stjudem |
StartedAt: 2013-10-08 11:56:19 -0700 (Tue, 08 Oct 2013) |
EndedAt: 2013-10-08 11:56:27 -0700 (Tue, 08 Oct 2013) |
EllapsedTime: 7.6 seconds |
RetCode: 0 |
Status: OK |
PackageFile: stjudem_1.2.9.tar.gz |
PackageFileSize: 27.59 MiB |
* checking for file ‘stjudem/DESCRIPTION’ ... OK * preparing ‘stjudem’: * checking DESCRIPTION meta-information ... OK * checking for LF line-endings in source and make files * checking for empty or unneeded directories * looking to see if a ‘data/datalist’ file should be added * building ‘stjudem_1.2.9.tar.gz’