Back to the "Multiple platform build/check report" |
This page was generated on 2013-10-08 16:07:31 -0700 (Tue, 08 Oct 2013).
Package 142/156 | Hostname | OS / Arch | BUILD | CHECK | BUILD BIN | ||||
stjudem 1.2.9 Joern Toedling
| george2 | Linux (Ubuntu 12.04.1 LTS) / x86_64 | OK | OK | |||||
moscato2 | Windows Server 2008 R2 Enterprise SP1 (64-bit) / x64 | OK | OK | OK | |||||
petty | Mac OS X Snow Leopard (10.6.8) / x86_64 | OK | OK | [ OK ] |
Package: stjudem |
Version: 1.2.9 |
Command: rm -rf stjudem.buildbin-libdir && mkdir stjudem.buildbin-libdir && /Users/biocbuild/BBS/utils/build-universal.sh stjudem_1.2.9.tar.gz /Library/Frameworks/R.framework/Versions/Current/Resources/bin/R stjudem.buildbin-libdir |
StartedAt: 2013-10-08 15:20:12 -0700 (Tue, 08 Oct 2013) |
EndedAt: 2013-10-08 15:20:58 -0700 (Tue, 08 Oct 2013) |
EllapsedTime: 46.0 seconds |
RetCode: 0 |
Status: OK |
PackageFile: stjudem_1.2.9.tgz |
PackageFileSize: 27.6 MiB |
>>>>>>> >>>>>>> INSTALLATION WITH 'R CMD INSTALL --preclean --no-multiarch --library=stjudem.buildbin-libdir stjudem_1.2.9.tar.gz' >>>>>>> * installing *source* package 'stjudem' ... ** R ** data ** preparing package for lazy loading ** help *** installing help indices ** building package indices ** testing if installed package can be loaded * DONE (stjudem)