Back to the "Multiple platform build/check report" |
This page was generated on 2013-10-08 16:07:31 -0700 (Tue, 08 Oct 2013).
Package 109/156 | Hostname | OS / Arch | BUILD | CHECK | BUILD BIN | ||||
Neve2006 0.1.16 VJ Carey
| george2 | Linux (Ubuntu 12.04.1 LTS) / x86_64 | OK | OK | |||||
moscato2 | Windows Server 2008 R2 Enterprise SP1 (64-bit) / x64 | OK | OK | OK | |||||
petty | Mac OS X Snow Leopard (10.6.8) / x86_64 | [ OK ] | OK | OK |
Package: Neve2006 |
Version: 0.1.16 |
Command: /Library/Frameworks/R.framework/Versions/Current/Resources/bin/R CMD build --keep-empty-dirs --no-resave-data Neve2006 |
StartedAt: 2013-10-08 12:21:32 -0700 (Tue, 08 Oct 2013) |
EndedAt: 2013-10-08 12:23:18 -0700 (Tue, 08 Oct 2013) |
EllapsedTime: 106.6 seconds |
RetCode: 0 |
Status: OK |
PackageFile: Neve2006_0.1.16.tar.gz |
PackageFileSize: 67.83 MiB |
* checking for file 'Neve2006/DESCRIPTION' ... OK * preparing 'Neve2006': * checking DESCRIPTION meta-information ... OK * installing the package to re-build vignettes * creating vignettes ... OK * checking for LF line-endings in source and make files * checking for empty or unneeded directories * looking to see if a 'data/datalist' file should be added * building 'Neve2006_0.1.16.tar.gz'