Back to the "Multiple platform build/check report" |
This page was generated on 2013-10-08 16:07:31 -0700 (Tue, 08 Oct 2013).
Package 109/156 | Hostname | OS / Arch | BUILD | CHECK | BUILD BIN | ||||
Neve2006 0.1.16 VJ Carey
| george2 | Linux (Ubuntu 12.04.1 LTS) / x86_64 | OK | OK | |||||
moscato2 | Windows Server 2008 R2 Enterprise SP1 (64-bit) / x64 | OK | OK | OK | |||||
petty | Mac OS X Snow Leopard (10.6.8) / x86_64 | OK | OK | [ OK ] |
Package: Neve2006 |
Version: 0.1.16 |
Command: rm -rf Neve2006.buildbin-libdir && mkdir Neve2006.buildbin-libdir && /Users/biocbuild/BBS/utils/build-universal.sh Neve2006_0.1.16.tar.gz /Library/Frameworks/R.framework/Versions/Current/Resources/bin/R Neve2006.buildbin-libdir |
StartedAt: 2013-10-08 15:04:16 -0700 (Tue, 08 Oct 2013) |
EndedAt: 2013-10-08 15:05:18 -0700 (Tue, 08 Oct 2013) |
EllapsedTime: 62.3 seconds |
RetCode: 0 |
Status: OK |
PackageFile: Neve2006_0.1.16.tgz |
PackageFileSize: 68.02 MiB |
>>>>>>> >>>>>>> INSTALLATION WITH 'R CMD INSTALL --preclean --no-multiarch --library=Neve2006.buildbin-libdir Neve2006_0.1.16.tar.gz' >>>>>>> * installing *source* package 'Neve2006' ... ** R ** data ** inst ** preparing package for lazy loading ** help *** installing help indices ** building package indices ** installing vignettes ** testing if installed package can be loaded * DONE (Neve2006)