##############################################################################
##############################################################################
###
### Running command:
###
### rm -rf ppiStats.buildbin-libdir && mkdir ppiStats.buildbin-libdir && /Users/biocbuild/BBS/utils/build-universal.sh ppiStats_1.41.0.tar.gz /Library/Frameworks/R.framework/Versions/Current/Resources/bin/R ppiStats.buildbin-libdir
###
##############################################################################
##############################################################################
>>>>>>>
>>>>>>> INSTALLATION WITH 'R CMD INSTALL --preclean --no-multiarch --library=ppiStats.buildbin-libdir ppiStats_1.41.0.tar.gz'
>>>>>>>
* installing *source* package ‘ppiStats’ ...
** R
** inst
** preparing package for lazy loading
No methods found in "Biobase" for requests: listlen
No methods found in "annotate" for requests: pubmed, buildPubMedAbst
** help
*** installing help indices
** building package indices
** installing vignettes
** testing if installed package can be loaded
No methods found in "Biobase" for requests: listlen
No methods found in "annotate" for requests: pubmed, buildPubMedAbst
* DONE (ppiStats)